Workbook

Sheet Beläggning
A1: Beläggning per vecka
A2: Bokade timmar delat med tillgängliga (timmar per vecka minus frånvaro). Fyll i flikarna Personer, Frånvaro och Bokningar; den här fliken räknas själv. Ändra veckonumren i rad 4 för att flytta fönstret.
A4: Namn | B4: 41 | C4: 42 | D4: 43 | E4: 44 | F4: 45 | G4: 46 | H4: 47 | I4: 48
A5: =IF(Personer!A2="","",Personer!A2) | B5: =IF(Personer!$A$2="","",IFERROR(SUMIFS(Bokningar!$E:$E,Bokningar!$A:$A,Personer!$A$2,Bokningar!$D:$D,B$4)/(Personer!$C$2-SUMIFS('Frånvaro'!$C:$C,'Frånvaro'!$A:$A,Personer!$A$2,'Frånvaro'!$B:$B,B$4)),0)) | C5: =IF(Personer!$A$2="","",IFERROR(SUMIFS(Bokningar!$E:$E,Bokningar!$A:$A,Personer!$A$2,Bokningar!$D:$D,C$4)/(Personer!$C$2-SUMIFS('Frånvaro'!$C:$C,'Frånvaro'!$A:$A,Personer!$A$2,'Frånvaro'!$B:$B,C$4)),0)) | D5: =IF(Personer!$A$2="","",IFERROR(SUMIFS(Bokningar!$E:$E,Bokningar!$A:$A,Personer!$A$2,Bokningar!$D:$D,D$4)/(Personer!$C$2-SUMIFS('Frånvaro'!$C:$C,'Frånvaro'!$A:$A,Personer!$A$2,'Frånvaro'!$B:$B,D$4)),0)) | E5: =IF(Personer!$A$2="","",IFERROR(SUMIFS(Bokningar!$E:$E,Bokningar!$A:$A,Personer!$A$2,Bokningar!$D:$D,E$4)/(Personer!$C$2-SUMIFS('Frånvaro'!$C:$C,'Frånvaro'!$A:$A,Personer!$A$2,'Frånvaro'!$B:$B,E$4)),0)) | F5: =IF(Personer!$A$2="","",IFERROR(SUMIFS(Bokningar!$E:$E,Bokningar!$A:$A,Personer!$A$2,Bokningar!$D:$D,F$4)/(Personer!$C$2-SUMIFS('Frånvaro'!$C:$C,'Frånvaro'!$A:$A,Personer!$A$2,'Frånvaro'!$B:$B,F$4)),0)) | G5: =IF(Personer!$A$2="","",IFERROR(SUMIFS(Bokningar!$E:$E,Bokningar!$A:$A,Personer!$A$2,Bokningar!$D:$D,G$4)/(Personer!$C$2-SUMIFS('Frånvaro'!$C:$C,'Frånvaro'!$A:$A,Personer!$A$2,'Frånvaro'!$B:$B,G$4)),0)) | H5: =IF(Personer!$A$2="","",IFERROR(SUMIFS(Bokningar!$E:$E,Bokningar!$A:$A,Personer!$A$2,Bokningar!$D:$D,H$4)/(Personer!$C$2-SUMIFS('Frånvaro'!$C:$C,'Frånvaro'!$A:$A,Personer!$A$2,'Frånvaro'!$B:$B,H$4)),0)) | I5: =IF(Personer!$A$2="","",IFERROR(SUMIFS(Bokningar!$E:$E,Bokningar!$A:$A,Personer!$A$2,Bokningar!$D:$D,I$4)/(Personer!$C$2-SUMIFS('Frånvaro'!$C:$C,'Frånvaro'!$A:$A,Personer!$A$2,'Frånvaro'!$B:$B,I$4)),0))
A6: =IF(Personer!A3="","",Personer!A3) | B6: =IF(Personer!$A$3="","",IFERROR(SUMIFS(Bokningar!$E:$E,Bokningar!$A:$A,Personer!$A$3,Bokningar!$D:$D,B$4)/(Personer!$C$3-SUMIFS('Frånvaro'!$C:$C,'Frånvaro'!$A:$A,Personer!$A$3,'Frånvaro'!$B:$B,B$4)),0)) | C6: =IF(Personer!$A$3="","",IFERROR(SUMIFS(Bokningar!$E:$E,Bokningar!$A:$A,Personer!$A$3,Bokningar!$D:$D,C$4)/(Personer!$C$3-SUMIFS('Frånvaro'!$C:$C,'Frånvaro'!$A:$A,Personer!$A$3,'Frånvaro'!$B:$B,C$4)),0)) | D6: =IF(Personer!$A$3="","",IFERROR(SUMIFS(Bokningar!$E:$E,Bokningar!$A:$A,Personer!$A$3,Bokningar!$D:$D,D$4)/(Personer!$C$3-SUMIFS('Frånvaro'!$C:$C,'Frånvaro'!$A:$A,Personer!$A$3,'Frånvaro'!$B:$B,D$4)),0)) | E6: =IF(Personer!$A$3="","",IFERROR(SUMIFS(Bokningar!$E:$E,Bokningar!$A:$A,Personer!$A$3,Bokningar!$D:$D,E$4)/(Personer!$C$3-SUMIFS('Frånvaro'!$C:$C,'Frånvaro'!$A:$A,Personer!$A$3,'Frånvaro'!$B:$B,E$4)),0)) | F6: =IF(Personer!$A$3="","",IFERROR(SUMIFS(Bokningar!$E:$E,Bokningar!$A:$A,Personer!$A$3,Bokningar!$D:$D,F$4)/(Personer!$C$3-SUMIFS('Frånvaro'!$C:$C,'Frånvaro'!$A:$A,Personer!$A$3,'Frånvaro'!$B:$B,F$4)),0)) | G6: =IF(Personer!$A$3="","",IFERROR(SUMIFS(Bokningar!$E:$E,Bokningar!$A:$A,Personer!$A$3,Bokningar!$D:$D,G$4)/(Personer!$C$3-SUMIFS('Frånvaro'!$C:$C,'Frånvaro'!$A:$A,Personer!$A$3,'Frånvaro'!$B:$B,G$4)),0)) | H6: =IF(Personer!$A$3="","",IFERROR(SUMIFS(Bokningar!$E:$E,Bokningar!$A:$A,Personer!$A$3,Bokningar!$D:$D,H$4)/(Personer!$C$3-SUMIFS('Frånvaro'!$C:$C,'Frånvaro'!$A:$A,Personer!$A$3,'Frånvaro'!$B:$B,H$4)),0)) | I6: =IF(Personer!$A$3="","",IFERROR(SUMIFS(Bokningar!$E:$E,Bokningar!$A:$A,Personer!$A$3,Bokningar!$D:$D,I$4)/(Personer!$C$3-SUMIFS('Frånvaro'!$C:$C,'Frånvaro'!$A:$A,Personer!$A$3,'Frånvaro'!$B:$B,I$4)),0))
A7: =IF(Personer!A4="","",Personer!A4) | B7: =IF(Personer!$A$4="","",IFERROR(SUMIFS(Bokningar!$E:$E,Bokningar!$A:$A,Personer!$A$4,Bokningar!$D:$D,B$4)/(Personer!$C$4-SUMIFS('Frånvaro'!$C:$C,'Frånvaro'!$A:$A,Personer!$A$4,'Frånvaro'!$B:$B,B$4)),0)) | C7: =IF(Personer!$A$4="","",IFERROR(SUMIFS(Bokningar!$E:$E,Bokningar!$A:$A,Personer!$A$4,Bokningar!$D:$D,C$4)/(Personer!$C$4-SUMIFS('Frånvaro'!$C:$C,'Frånvaro'!$A:$A,Personer!$A$4,'Frånvaro'!$B:$B,C$4)),0)) | D7: =IF(Personer!$A$4="","",IFERROR(SUMIFS(Bokningar!$E:$E,Bokningar!$A:$A,Personer!$A$4,Bokningar!$D:$D,D$4)/(Personer!$C$4-SUMIFS('Frånvaro'!$C:$C,'Frånvaro'!$A:$A,Personer!$A$4,'Frånvaro'!$B:$B,D$4)),0)) | E7: =IF(Personer!$A$4="","",IFERROR(SUMIFS(Bokningar!$E:$E,Bokningar!$A:$A,Personer!$A$4,Bokningar!$D:$D,E$4)/(Personer!$C$4-SUMIFS('Frånvaro'!$C:$C,'Frånvaro'!$A:$A,Personer!$A$4,'Frånvaro'!$B:$B,E$4)),0)) | F7: =IF(Personer!$A$4="","",IFERROR(SUMIFS(Bokningar!$E:$E,Bokningar!$A:$A,Personer!$A$4,Bokningar!$D:$D,F$4)/(Personer!$C$4-SUMIFS('Frånvaro'!$C:$C,'Frånvaro'!$A:$A,Personer!$A$4,'Frånvaro'!$B:$B,F$4)),0)) | G7: =IF(Personer!$A$4="","",IFERROR(SUMIFS(Bokningar!$E:$E,Bokningar!$A:$A,Personer!$A$4,Bokningar!$D:$D,G$4)/(Personer!$C$4-SUMIFS('Frånvaro'!$C:$C,'Frånvaro'!$A:$A,Personer!$A$4,'Frånvaro'!$B:$B,G$4)),0)) | H7: =IF(Personer!$A$4="","",IFERROR(SUMIFS(Bokningar!$E:$E,Bokningar!$A:$A,Personer!$A$4,Bokningar!$D:$D,H$4)/(Personer!$C$4-SUMIFS('Frånvaro'!$C:$C,'Frånvaro'!$A:$A,Personer!$A$4,'Frånvaro'!$B:$B,H$4)),0)) | I7: =IF(Personer!$A$4="","",IFERROR(SUMIFS(Bokningar!$E:$E,Bokningar!$A:$A,Personer!$A$4,Bokningar!$D:$D,I$4)/(Personer!$C$4-SUMIFS('Frånvaro'!$C:$C,'Frånvaro'!$A:$A,Personer!$A$4,'Frånvaro'!$B:$B,I$4)),0))
A8: =IF(Personer!A5="","",Personer!A5) | B8: =IF(Personer!$A$5="","",IFERROR(SUMIFS(Bokningar!$E:$E,Bokningar!$A:$A,Personer!$A$5,Bokningar!$D:$D,B$4)/(Personer!$C$5-SUMIFS('Frånvaro'!$C:$C,'Frånvaro'!$A:$A,Personer!$A$5,'Frånvaro'!$B:$B,B$4)),0)) | C8: =IF(Personer!$A$5="","",IFERROR(SUMIFS(Bokningar!$E:$E,Bokningar!$A:$A,Personer!$A$5,Bokningar!$D:$D,C$4)/(Personer!$C$5-SUMIFS('Frånvaro'!$C:$C,'Frånvaro'!$A:$A,Personer!$A$5,'Frånvaro'!$B:$B,C$4)),0)) | D8: =IF(Personer!$A$5="","",IFERROR(SUMIFS(Bokningar!$E:$E,Bokningar!$A:$A,Personer!$A$5,Bokningar!$D:$D,D$4)/(Personer!$C$5-SUMIFS('Frånvaro'!$C:$C,'Frånvaro'!$A:$A,Personer!$A$5,'Frånvaro'!$B:$B,D$4)),0)) | E8: =IF(Personer!$A$5="","",IFERROR(SUMIFS(Bokningar!$E:$E,Bokningar!$A:$A,Personer!$A$5,Bokningar!$D:$D,E$4)/(Personer!$C$5-SUMIFS('Frånvaro'!$C:$C,'Frånvaro'!$A:$A,Personer!$A$5,'Frånvaro'!$B:$B,E$4)),0)) | F8: =IF(Personer!$A$5="","",IFERROR(SUMIFS(Bokningar!$E:$E,Bokningar!$A:$A,Personer!$A$5,Bokningar!$D:$D,F$4)/(Personer!$C$5-SUMIFS('Frånvaro'!$C:$C,'Frånvaro'!$A:$A,Personer!$A$5,'Frånvaro'!$B:$B,F$4)),0)) | G8: =IF(Personer!$A$5="","",IFERROR(SUMIFS(Bokningar!$E:$E,Bokningar!$A:$A,Personer!$A$5,Bokningar!$D:$D,G$4)/(Personer!$C$5-SUMIFS('Frånvaro'!$C:$C,'Frånvaro'!$A:$A,Personer!$A$5,'Frånvaro'!$B:$B,G$4)),0)) | H8: =IF(Personer!$A$5="","",IFERROR(SUMIFS(Bokningar!$E:$E,Bokningar!$A:$A,Personer!$A$5,Bokningar!$D:$D,H$4)/(Personer!$C$5-SUMIFS('Frånvaro'!$C:$C,'Frånvaro'!$A:$A,Personer!$A$5,'Frånvaro'!$B:$B,H$4)),0)) | I8: =IF(Personer!$A$5="","",IFERROR(SUMIFS(Bokningar!$E:$E,Bokningar!$A:$A,Personer!$A$5,Bokningar!$D:$D,I$4)/(Personer!$C$5-SUMIFS('Frånvaro'!$C:$C,'Frånvaro'!$A:$A,Personer!$A$5,'Frånvaro'!$B:$B,I$4)),0))
A9: =IF(Personer!A6="","",Personer!A6) | B9: =IF(Personer!$A$6="","",IFERROR(SUMIFS(Bokningar!$E:$E,Bokningar!$A:$A,Personer!$A$6,Bokningar!$D:$D,B$4)/(Personer!$C$6-SUMIFS('Frånvaro'!$C:$C,'Frånvaro'!$A:$A,Personer!$A$6,'Frånvaro'!$B:$B,B$4)),0)) | C9: =IF(Personer!$A$6="","",IFERROR(SUMIFS(Bokningar!$E:$E,Bokningar!$A:$A,Personer!$A$6,Bokningar!$D:$D,C$4)/(Personer!$C$6-SUMIFS('Frånvaro'!$C:$C,'Frånvaro'!$A:$A,Personer!$A$6,'Frånvaro'!$B:$B,C$4)),0)) | D9: =IF(Personer!$A$6="","",IFERROR(SUMIFS(Bokningar!$E:$E,Bokningar!$A:$A,Personer!$A$6,Bokningar!$D:$D,D$4)/(Personer!$C$6-SUMIFS('Frånvaro'!$C:$C,'Frånvaro'!$A:$A,Personer!$A$6,'Frånvaro'!$B:$B,D$4)),0)) | E9: =IF(Personer!$A$6="","",IFERROR(SUMIFS(Bokningar!$E:$E,Bokningar!$A:$A,Personer!$A$6,Bokningar!$D:$D,E$4)/(Personer!$C$6-SUMIFS('Frånvaro'!$C:$C,'Frånvaro'!$A:$A,Personer!$A$6,'Frånvaro'!$B:$B,E$4)),0)) | F9: =IF(Personer!$A$6="","",IFERROR(SUMIFS(Bokningar!$E:$E,Bokningar!$A:$A,Personer!$A$6,Bokningar!$D:$D,F$4)/(Personer!$C$6-SUMIFS('Frånvaro'!$C:$C,'Frånvaro'!$A:$A,Personer!$A$6,'Frånvaro'!$B:$B,F$4)),0)) | G9: =IF(Personer!$A$6="","",IFERROR(SUMIFS(Bokningar!$E:$E,Bokningar!$A:$A,Personer!$A$6,Bokningar!$D:$D,G$4)/(Personer!$C$6-SUMIFS('Frånvaro'!$C:$C,'Frånvaro'!$A:$A,Personer!$A$6,'Frånvaro'!$B:$B,G$4)),0)) | H9: =IF(Personer!$A$6="","",IFERROR(SUMIFS(Bokningar!$E:$E,Bokningar!$A:$A,Personer!$A$6,Bokningar!$D:$D,H$4)/(Personer!$C$6-SUMIFS('Frånvaro'!$C:$C,'Frånvaro'!$A:$A,Personer!$A$6,'Frånvaro'!$B:$B,H$4)),0)) | I9: =IF(Personer!$A$6="","",IFERROR(SUMIFS(Bokningar!$E:$E,Bokningar!$A:$A,Personer!$A$6,Bokningar!$D:$D,I$4)/(Personer!$C$6-SUMIFS('Frånvaro'!$C:$C,'Frånvaro'!$A:$A,Personer!$A$6,'Frånvaro'!$B:$B,I$4)),0))
A10: =IF(Personer!A7="","",Personer!A7) | B10: =IF(Personer!$A$7="","",IFERROR(SUMIFS(Bokningar!$E:$E,Bokningar!$A:$A,Personer!$A$7,Bokningar!$D:$D,B$4)/(Personer!$C$7-SUMIFS('Frånvaro'!$C:$C,'Frånvaro'!$A:$A,Personer!$A$7,'Frånvaro'!$B:$B,B$4)),0)) | C10: =IF(Personer!$A$7="","",IFERROR(SUMIFS(Bokningar!$E:$E,Bokningar!$A:$A,Personer!$A$7,Bokningar!$D:$D,C$4)/(Personer!$C$7-SUMIFS('Frånvaro'!$C:$C,'Frånvaro'!$A:$A,Personer!$A$7,'Frånvaro'!$B:$B,C$4)),0)) | D10: =IF(Personer!$A$7="","",IFERROR(SUMIFS(Bokningar!$E:$E,Bokningar!$A:$A,Personer!$A$7,Bokningar!$D:$D,D$4)/(Personer!$C$7-SUMIFS('Frånvaro'!$C:$C,'Frånvaro'!$A:$A,Personer!$A$7,'Frånvaro'!$B:$B,D$4)),0)) | E10: =IF(Personer!$A$7="","",IFERROR(SUMIFS(Bokningar!$E:$E,Bokningar!$A:$A,Personer!$A$7,Bokningar!$D:$D,E$4)/(Personer!$C$7-SUMIFS('Frånvaro'!$C:$C,'Frånvaro'!$A:$A,Personer!$A$7,'Frånvaro'!$B:$B,E$4)),0)) | F10: =IF(Personer!$A$7="","",IFERROR(SUMIFS(Bokningar!$E:$E,Bokningar!$A:$A,Personer!$A$7,Bokningar!$D:$D,F$4)/(Personer!$C$7-SUMIFS('Frånvaro'!$C:$C,'Frånvaro'!$A:$A,Personer!$A$7,'Frånvaro'!$B:$B,F$4)),0)) | G10: =IF(Personer!$A$7="","",IFERROR(SUMIFS(Bokningar!$E:$E,Bokningar!$A:$A,Personer!$A$7,Bokningar!$D:$D,G$4)/(Personer!$C$7-SUMIFS('Frånvaro'!$C:$C,'Frånvaro'!$A:$A,Personer!$A$7,'Frånvaro'!$B:$B,G$4)),0)) | H10: =IF(Personer!$A$7="","",IFERROR(SUMIFS(Bokningar!$E:$E,Bokningar!$A:$A,Personer!$A$7,Bokningar!$D:$D,H$4)/(Personer!$C$7-SUMIFS('Frånvaro'!$C:$C,'Frånvaro'!$A:$A,Personer!$A$7,'Frånvaro'!$B:$B,H$4)),0)) | I10: =IF(Personer!$A$7="","",IFERROR(SUMIFS(Bokningar!$E:$E,Bokningar!$A:$A,Personer!$A$7,Bokningar!$D:$D,I$4)/(Personer!$C$7-SUMIFS('Frånvaro'!$C:$C,'Frånvaro'!$A:$A,Personer!$A$7,'Frånvaro'!$B:$B,I$4)),0))
A11: =IF(Personer!A8="","",Personer!A8) | B11: =IF(Personer!$A$8="","",IFERROR(SUMIFS(Bokningar!$E:$E,Bokningar!$A:$A,Personer!$A$8,Bokningar!$D:$D,B$4)/(Personer!$C$8-SUMIFS('Frånvaro'!$C:$C,'Frånvaro'!$A:$A,Personer!$A$8,'Frånvaro'!$B:$B,B$4)),0)) | C11: =IF(Personer!$A$8="","",IFERROR(SUMIFS(Bokningar!$E:$E,Bokningar!$A:$A,Personer!$A$8,Bokningar!$D:$D,C$4)/(Personer!$C$8-SUMIFS('Frånvaro'!$C:$C,'Frånvaro'!$A:$A,Personer!$A$8,'Frånvaro'!$B:$B,C$4)),0)) | D11: =IF(Personer!$A$8="","",IFERROR(SUMIFS(Bokningar!$E:$E,Bokningar!$A:$A,Personer!$A$8,Bokningar!$D:$D,D$4)/(Personer!$C$8-SUMIFS('Frånvaro'!$C:$C,'Frånvaro'!$A:$A,Personer!$A$8,'Frånvaro'!$B:$B,D$4)),0)) | E11: =IF(Personer!$A$8="","",IFERROR(SUMIFS(Bokningar!$E:$E,Bokningar!$A:$A,Personer!$A$8,Bokningar!$D:$D,E$4)/(Personer!$C$8-SUMIFS('Frånvaro'!$C:$C,'Frånvaro'!$A:$A,Personer!$A$8,'Frånvaro'!$B:$B,E$4)),0)) | F11: =IF(Personer!$A$8="","",IFERROR(SUMIFS(Bokningar!$E:$E,Bokningar!$A:$A,Personer!$A$8,Bokningar!$D:$D,F$4)/(Personer!$C$8-SUMIFS('Frånvaro'!$C:$C,'Frånvaro'!$A:$A,Personer!$A$8,'Frånvaro'!$B:$B,F$4)),0)) | G11: =IF(Personer!$A$8="","",IFERROR(SUMIFS(Bokningar!$E:$E,Bokningar!$A:$A,Personer!$A$8,Bokningar!$D:$D,G$4)/(Personer!$C$8-SUMIFS('Frånvaro'!$C:$C,'Frånvaro'!$A:$A,Personer!$A$8,'Frånvaro'!$B:$B,G$4)),0)) | H11: =IF(Personer!$A$8="","",IFERROR(SUMIFS(Bokningar!$E:$E,Bokningar!$A:$A,Personer!$A$8,Bokningar!$D:$D,H$4)/(Personer!$C$8-SUMIFS('Frånvaro'!$C:$C,'Frånvaro'!$A:$A,Personer!$A$8,'Frånvaro'!$B:$B,H$4)),0)) | I11: =IF(Personer!$A$8="","",IFERROR(SUMIFS(Bokningar!$E:$E,Bokningar!$A:$A,Personer!$A$8,Bokningar!$D:$D,I$4)/(Personer!$C$8-SUMIFS('Frånvaro'!$C:$C,'Frånvaro'!$A:$A,Personer!$A$8,'Frånvaro'!$B:$B,I$4)),0))
A12: =IF(Personer!A9="","",Personer!A9) | B12: =IF(Personer!$A$9="","",IFERROR(SUMIFS(Bokningar!$E:$E,Bokningar!$A:$A,Personer!$A$9,Bokningar!$D:$D,B$4)/(Personer!$C$9-SUMIFS('Frånvaro'!$C:$C,'Frånvaro'!$A:$A,Personer!$A$9,'Frånvaro'!$B:$B,B$4)),0)) | C12: =IF(Personer!$A$9="","",IFERROR(SUMIFS(Bokningar!$E:$E,Bokningar!$A:$A,Personer!$A$9,Bokningar!$D:$D,C$4)/(Personer!$C$9-SUMIFS('Frånvaro'!$C:$C,'Frånvaro'!$A:$A,Personer!$A$9,'Frånvaro'!$B:$B,C$4)),0)) | D12: =IF(Personer!$A$9="","",IFERROR(SUMIFS(Bokningar!$E:$E,Bokningar!$A:$A,Personer!$A$9,Bokningar!$D:$D,D$4)/(Personer!$C$9-SUMIFS('Frånvaro'!$C:$C,'Frånvaro'!$A:$A,Personer!$A$9,'Frånvaro'!$B:$B,D$4)),0)) | E12: =IF(Personer!$A$9="","",IFERROR(SUMIFS(Bokningar!$E:$E,Bokningar!$A:$A,Personer!$A$9,Bokningar!$D:$D,E$4)/(Personer!$C$9-SUMIFS('Frånvaro'!$C:$C,'Frånvaro'!$A:$A,Personer!$A$9,'Frånvaro'!$B:$B,E$4)),0)) | F12: =IF(Personer!$A$9="","",IFERROR(SUMIFS(Bokningar!$E:$E,Bokningar!$A:$A,Personer!$A$9,Bokningar!$D:$D,F$4)/(Personer!$C$9-SUMIFS('Frånvaro'!$C:$C,'Frånvaro'!$A:$A,Personer!$A$9,'Frånvaro'!$B:$B,F$4)),0)) | G12: =IF(Personer!$A$9="","",IFERROR(SUMIFS(Bokningar!$E:$E,Bokningar!$A:$A,Personer!$A$9,Bokningar!$D:$D,G$4)/(Personer!$C$9-SUMIFS('Frånvaro'!$C:$C,'Frånvaro'!$A:$A,Personer!$A$9,'Frånvaro'!$B:$B,G$4)),0)) | H12: =IF(Personer!$A$9="","",IFERROR(SUMIFS(Bokningar!$E:$E,Bokningar!$A:$A,Personer!$A$9,Bokningar!$D:$D,H$4)/(Personer!$C$9-SUMIFS('Frånvaro'!$C:$C,'Frånvaro'!$A:$A,Personer!$A$9,'Frånvaro'!$B:$B,H$4)),0)) | I12: =IF(Personer!$A$9="","",IFERROR(SUMIFS(Bokningar!$E:$E,Bokningar!$A:$A,Personer!$A$9,Bokningar!$D:$D,I$4)/(Personer!$C$9-SUMIFS('Frånvaro'!$C:$C,'Frånvaro'!$A:$A,Personer!$A$9,'Frånvaro'!$B:$B,I$4)),0))
A13: =IF(Personer!A10="","",Personer!A10) | B13: =IF(Personer!$A$10="","",IFERROR(SUMIFS(Bokningar!$E:$E,Bokningar!$A:$A,Personer!$A$10,Bokningar!$D:$D,B$4)/(Personer!$C$10-SUMIFS('Frånvaro'!$C:$C,'Frånvaro'!$A:$A,Personer!$A$10,'Frånvaro'!$B:$B,B$4)),0)) | C13: =IF(Personer!$A$10="","",IFERROR(SUMIFS(Bokningar!$E:$E,Bokningar!$A:$A,Personer!$A$10,Bokningar!$D:$D,C$4)/(Personer!$C$10-SUMIFS('Frånvaro'!$C:$C,'Frånvaro'!$A:$A,Personer!$A$10,'Frånvaro'!$B:$B,C$4)),0)) | D13: =IF(Personer!$A$10="","",IFERROR(SUMIFS(Bokningar!$E:$E,Bokningar!$A:$A,Personer!$A$10,Bokningar!$D:$D,D$4)/(Personer!$C$10-SUMIFS('Frånvaro'!$C:$C,'Frånvaro'!$A:$A,Personer!$A$10,'Frånvaro'!$B:$B,D$4)),0)) | E13: =IF(Personer!$A$10="","",IFERROR(SUMIFS(Bokningar!$E:$E,Bokningar!$A:$A,Personer!$A$10,Bokningar!$D:$D,E$4)/(Personer!$C$10-SUMIFS('Frånvaro'!$C:$C,'Frånvaro'!$A:$A,Personer!$A$10,'Frånvaro'!$B:$B,E$4)),0)) | F13: =IF(Personer!$A$10="","",IFERROR(SUMIFS(Bokningar!$E:$E,Bokningar!$A:$A,Personer!$A$10,Bokningar!$D:$D,F$4)/(Personer!$C$10-SUMIFS('Frånvaro'!$C:$C,'Frånvaro'!$A:$A,Personer!$A$10,'Frånvaro'!$B:$B,F$4)),0)) | G13: =IF(Personer!$A$10="","",IFERROR(SUMIFS(Bokningar!$E:$E,Bokningar!$A:$A,Personer!$A$10,Bokningar!$D:$D,G$4)/(Personer!$C$10-SUMIFS('Frånvaro'!$C:$C,'Frånvaro'!$A:$A,Personer!$A$10,'Frånvaro'!$B:$B,G$4)),0)) | H13: =IF(Personer!$A$10="","",IFERROR(SUMIFS(Bokningar!$E:$E,Bokningar!$A:$A,Personer!$A$10,Bokningar!$D:$D,H$4)/(Personer!$C$10-SUMIFS('Frånvaro'!$C:$C,'Frånvaro'!$A:$A,Personer!$A$10,'Frånvaro'!$B:$B,H$4)),0)) | I13: =IF(Personer!$A$10="","",IFERROR(SUMIFS(Bokningar!$E:$E,Bokningar!$A:$A,Personer!$A$10,Bokningar!$D:$D,I$4)/(Personer!$C$10-SUMIFS('Frånvaro'!$C:$C,'Frånvaro'!$A:$A,Personer!$A$10,'Frånvaro'!$B:$B,I$4)),0))
A14: =IF(Personer!A11="","",Personer!A11) | B14: =IF(Personer!$A$11="","",IFERROR(SUMIFS(Bokningar!$E:$E,Bokningar!$A:$A,Personer!$A$11,Bokningar!$D:$D,B$4)/(Personer!$C$11-SUMIFS('Frånvaro'!$C:$C,'Frånvaro'!$A:$A,Personer!$A$11,'Frånvaro'!$B:$B,B$4)),0)) | C14: =IF(Personer!$A$11="","",IFERROR(SUMIFS(Bokningar!$E:$E,Bokningar!$A:$A,Personer!$A$11,Bokningar!$D:$D,C$4)/(Personer!$C$11-SUMIFS('Frånvaro'!$C:$C,'Frånvaro'!$A:$A,Personer!$A$11,'Frånvaro'!$B:$B,C$4)),0)) | D14: =IF(Personer!$A$11="","",IFERROR(SUMIFS(Bokningar!$E:$E,Bokningar!$A:$A,Personer!$A$11,Bokningar!$D:$D,D$4)/(Personer!$C$11-SUMIFS('Frånvaro'!$C:$C,'Frånvaro'!$A:$A,Personer!$A$11,'Frånvaro'!$B:$B,D$4)),0)) | E14: =IF(Personer!$A$11="","",IFERROR(SUMIFS(Bokningar!$E:$E,Bokningar!$A:$A,Personer!$A$11,Bokningar!$D:$D,E$4)/(Personer!$C$11-SUMIFS('Frånvaro'!$C:$C,'Frånvaro'!$A:$A,Personer!$A$11,'Frånvaro'!$B:$B,E$4)),0)) | F14: =IF(Personer!$A$11="","",IFERROR(SUMIFS(Bokningar!$E:$E,Bokningar!$A:$A,Personer!$A$11,Bokningar!$D:$D,F$4)/(Personer!$C$11-SUMIFS('Frånvaro'!$C:$C,'Frånvaro'!$A:$A,Personer!$A$11,'Frånvaro'!$B:$B,F$4)),0)) | G14: =IF(Personer!$A$11="","",IFERROR(SUMIFS(Bokningar!$E:$E,Bokningar!$A:$A,Personer!$A$11,Bokningar!$D:$D,G$4)/(Personer!$C$11-SUMIFS('Frånvaro'!$C:$C,'Frånvaro'!$A:$A,Personer!$A$11,'Frånvaro'!$B:$B,G$4)),0)) | H14: =IF(Personer!$A$11="","",IFERROR(SUMIFS(Bokningar!$E:$E,Bokningar!$A:$A,Personer!$A$11,Bokningar!$D:$D,H$4)/(Personer!$C$11-SUMIFS('Frånvaro'!$C:$C,'Frånvaro'!$A:$A,Personer!$A$11,'Frånvaro'!$B:$B,H$4)),0)) | I14: =IF(Personer!$A$11="","",IFERROR(SUMIFS(Bokningar!$E:$E,Bokningar!$A:$A,Personer!$A$11,Bokningar!$D:$D,I$4)/(Personer!$C$11-SUMIFS('Frånvaro'!$C:$C,'Frånvaro'!$A:$A,Personer!$A$11,'Frånvaro'!$B:$B,I$4)),0))
A15: =IF(Personer!A12="","",Personer!A12) | B15: =IF(Personer!$A$12="","",IFERROR(SUMIFS(Bokningar!$E:$E,Bokningar!$A:$A,Personer!$A$12,Bokningar!$D:$D,B$4)/(Personer!$C$12-SUMIFS('Frånvaro'!$C:$C,'Frånvaro'!$A:$A,Personer!$A$12,'Frånvaro'!$B:$B,B$4)),0)) | C15: =IF(Personer!$A$12="","",IFERROR(SUMIFS(Bokningar!$E:$E,Bokningar!$A:$A,Personer!$A$12,Bokningar!$D:$D,C$4)/(Personer!$C$12-SUMIFS('Frånvaro'!$C:$C,'Frånvaro'!$A:$A,Personer!$A$12,'Frånvaro'!$B:$B,C$4)),0)) | D15: =IF(Personer!$A$12="","",IFERROR(SUMIFS(Bokningar!$E:$E,Bokningar!$A:$A,Personer!$A$12,Bokningar!$D:$D,D$4)/(Personer!$C$12-SUMIFS('Frånvaro'!$C:$C,'Frånvaro'!$A:$A,Personer!$A$12,'Frånvaro'!$B:$B,D$4)),0)) | E15: =IF(Personer!$A$12="","",IFERROR(SUMIFS(Bokningar!$E:$E,Bokningar!$A:$A,Personer!$A$12,Bokningar!$D:$D,E$4)/(Personer!$C$12-SUMIFS('Frånvaro'!$C:$C,'Frånvaro'!$A:$A,Personer!$A$12,'Frånvaro'!$B:$B,E$4)),0)) | F15: =IF(Personer!$A$12="","",IFERROR(SUMIFS(Bokningar!$E:$E,Bokningar!$A:$A,Personer!$A$12,Bokningar!$D:$D,F$4)/(Personer!$C$12-SUMIFS('Frånvaro'!$C:$C,'Frånvaro'!$A:$A,Personer!$A$12,'Frånvaro'!$B:$B,F$4)),0)) | G15: =IF(Personer!$A$12="","",IFERROR(SUMIFS(Bokningar!$E:$E,Bokningar!$A:$A,Personer!$A$12,Bokningar!$D:$D,G$4)/(Personer!$C$12-SUMIFS('Frånvaro'!$C:$C,'Frånvaro'!$A:$A,Personer!$A$12,'Frånvaro'!$B:$B,G$4)),0)) | H15: =IF(Personer!$A$12="","",IFERROR(SUMIFS(Bokningar!$E:$E,Bokningar!$A:$A,Personer!$A$12,Bokningar!$D:$D,H$4)/(Personer!$C$12-SUMIFS('Frånvaro'!$C:$C,'Frånvaro'!$A:$A,Personer!$A$12,'Frånvaro'!$B:$B,H$4)),0)) | I15: =IF(Personer!$A$12="","",IFERROR(SUMIFS(Bokningar!$E:$E,Bokningar!$A:$A,Personer!$A$12,Bokningar!$D:$D,I$4)/(Personer!$C$12-SUMIFS('Frånvaro'!$C:$C,'Frånvaro'!$A:$A,Personer!$A$12,'Frånvaro'!$B:$B,I$4)),0))
A16: =IF(Personer!A13="","",Personer!A13) | B16: =IF(Personer!$A$13="","",IFERROR(SUMIFS(Bokningar!$E:$E,Bokningar!$A:$A,Personer!$A$13,Bokningar!$D:$D,B$4)/(Personer!$C$13-SUMIFS('Frånvaro'!$C:$C,'Frånvaro'!$A:$A,Personer!$A$13,'Frånvaro'!$B:$B,B$4)),0)) | C16: =IF(Personer!$A$13="","",IFERROR(SUMIFS(Bokningar!$E:$E,Bokningar!$A:$A,Personer!$A$13,Bokningar!$D:$D,C$4)/(Personer!$C$13-SUMIFS('Frånvaro'!$C:$C,'Frånvaro'!$A:$A,Personer!$A$13,'Frånvaro'!$B:$B,C$4)),0)) | D16: =IF(Personer!$A$13="","",IFERROR(SUMIFS(Bokningar!$E:$E,Bokningar!$A:$A,Personer!$A$13,Bokningar!$D:$D,D$4)/(Personer!$C$13-SUMIFS('Frånvaro'!$C:$C,'Frånvaro'!$A:$A,Personer!$A$13,'Frånvaro'!$B:$B,D$4)),0)) | E16: =IF(Personer!$A$13="","",IFERROR(SUMIFS(Bokningar!$E:$E,Bokningar!$A:$A,Personer!$A$13,Bokningar!$D:$D,E$4)/(Personer!$C$13-SUMIFS('Frånvaro'!$C:$C,'Frånvaro'!$A:$A,Personer!$A$13,'Frånvaro'!$B:$B,E$4)),0)) | F16: =IF(Personer!$A$13="","",IFERROR(SUMIFS(Bokningar!$E:$E,Bokningar!$A:$A,Personer!$A$13,Bokningar!$D:$D,F$4)/(Personer!$C$13-SUMIFS('Frånvaro'!$C:$C,'Frånvaro'!$A:$A,Personer!$A$13,'Frånvaro'!$B:$B,F$4)),0)) | G16: =IF(Personer!$A$13="","",IFERROR(SUMIFS(Bokningar!$E:$E,Bokningar!$A:$A,Personer!$A$13,Bokningar!$D:$D,G$4)/(Personer!$C$13-SUMIFS('Frånvaro'!$C:$C,'Frånvaro'!$A:$A,Personer!$A$13,'Frånvaro'!$B:$B,G$4)),0)) | H16: =IF(Personer!$A$13="","",IFERROR(SUMIFS(Bokningar!$E:$E,Bokningar!$A:$A,Personer!$A$13,Bokningar!$D:$D,H$4)/(Personer!$C$13-SUMIFS('Frånvaro'!$C:$C,'Frånvaro'!$A:$A,Personer!$A$13,'Frånvaro'!$B:$B,H$4)),0)) | I16: =IF(Personer!$A$13="","",IFERROR(SUMIFS(Bokningar!$E:$E,Bokningar!$A:$A,Personer!$A$13,Bokningar!$D:$D,I$4)/(Personer!$C$13-SUMIFS('Frånvaro'!$C:$C,'Frånvaro'!$A:$A,Personer!$A$13,'Frånvaro'!$B:$B,I$4)),0))
A18: Att sälja till målet, timmar | B18: =B$4 | C18: =C$4 | D18: =D$4 | E18: =E$4 | F18: =F$4 | G18: =G$4 | H18: =H$4 | I18: =I$4
A19: =IF(Personer!A2="","",Personer!A2) | B19: =IF(Personer!$A$2="","",MAX(0,ROUND(Personer!$D$2*(Personer!$C$2-SUMIFS('Frånvaro'!$C:$C,'Frånvaro'!$A:$A,Personer!$A$2,'Frånvaro'!$B:$B,B$4))-SUMIFS(Bokningar!$E:$E,Bokningar!$A:$A,Personer!$A$2,Bokningar!$D:$D,B$4),0))) | C19: =IF(Personer!$A$2="","",MAX(0,ROUND(Personer!$D$2*(Personer!$C$2-SUMIFS('Frånvaro'!$C:$C,'Frånvaro'!$A:$A,Personer!$A$2,'Frånvaro'!$B:$B,C$4))-SUMIFS(Bokningar!$E:$E,Bokningar!$A:$A,Personer!$A$2,Bokningar!$D:$D,C$4),0))) | D19: =IF(Personer!$A$2="","",MAX(0,ROUND(Personer!$D$2*(Personer!$C$2-SUMIFS('Frånvaro'!$C:$C,'Frånvaro'!$A:$A,Personer!$A$2,'Frånvaro'!$B:$B,D$4))-SUMIFS(Bokningar!$E:$E,Bokningar!$A:$A,Personer!$A$2,Bokningar!$D:$D,D$4),0))) | E19: =IF(Personer!$A$2="","",MAX(0,ROUND(Personer!$D$2*(Personer!$C$2-SUMIFS('Frånvaro'!$C:$C,'Frånvaro'!$A:$A,Personer!$A$2,'Frånvaro'!$B:$B,E$4))-SUMIFS(Bokningar!$E:$E,Bokningar!$A:$A,Personer!$A$2,Bokningar!$D:$D,E$4),0))) | F19: =IF(Personer!$A$2="","",MAX(0,ROUND(Personer!$D$2*(Personer!$C$2-SUMIFS('Frånvaro'!$C:$C,'Frånvaro'!$A:$A,Personer!$A$2,'Frånvaro'!$B:$B,F$4))-SUMIFS(Bokningar!$E:$E,Bokningar!$A:$A,Personer!$A$2,Bokningar!$D:$D,F$4),0))) | G19: =IF(Personer!$A$2="","",MAX(0,ROUND(Personer!$D$2*(Personer!$C$2-SUMIFS('Frånvaro'!$C:$C,'Frånvaro'!$A:$A,Personer!$A$2,'Frånvaro'!$B:$B,G$4))-SUMIFS(Bokningar!$E:$E,Bokningar!$A:$A,Personer!$A$2,Bokningar!$D:$D,G$4),0))) | H19: =IF(Personer!$A$2="","",MAX(0,ROUND(Personer!$D$2*(Personer!$C$2-SUMIFS('Frånvaro'!$C:$C,'Frånvaro'!$A:$A,Personer!$A$2,'Frånvaro'!$B:$B,H$4))-SUMIFS(Bokningar!$E:$E,Bokningar!$A:$A,Personer!$A$2,Bokningar!$D:$D,H$4),0))) | I19: =IF(Personer!$A$2="","",MAX(0,ROUND(Personer!$D$2*(Personer!$C$2-SUMIFS('Frånvaro'!$C:$C,'Frånvaro'!$A:$A,Personer!$A$2,'Frånvaro'!$B:$B,I$4))-SUMIFS(Bokningar!$E:$E,Bokningar!$A:$A,Personer!$A$2,Bokningar!$D:$D,I$4),0)))
A20: =IF(Personer!A3="","",Personer!A3) | B20: =IF(Personer!$A$3="","",MAX(0,ROUND(Personer!$D$3*(Personer!$C$3-SUMIFS('Frånvaro'!$C:$C,'Frånvaro'!$A:$A,Personer!$A$3,'Frånvaro'!$B:$B,B$4))-SUMIFS(Bokningar!$E:$E,Bokningar!$A:$A,Personer!$A$3,Bokningar!$D:$D,B$4),0))) | C20: =IF(Personer!$A$3="","",MAX(0,ROUND(Personer!$D$3*(Personer!$C$3-SUMIFS('Frånvaro'!$C:$C,'Frånvaro'!$A:$A,Personer!$A$3,'Frånvaro'!$B:$B,C$4))-SUMIFS(Bokningar!$E:$E,Bokningar!$A:$A,Personer!$A$3,Bokningar!$D:$D,C$4),0))) | D20: =IF(Personer!$A$3="","",MAX(0,ROUND(Personer!$D$3*(Personer!$C$3-SUMIFS('Frånvaro'!$C:$C,'Frånvaro'!$A:$A,Personer!$A$3,'Frånvaro'!$B:$B,D$4))-SUMIFS(Bokningar!$E:$E,Bokningar!$A:$A,Personer!$A$3,Bokningar!$D:$D,D$4),0))) | E20: =IF(Personer!$A$3="","",MAX(0,ROUND(Personer!$D$3*(Personer!$C$3-SUMIFS('Frånvaro'!$C:$C,'Frånvaro'!$A:$A,Personer!$A$3,'Frånvaro'!$B:$B,E$4))-SUMIFS(Bokningar!$E:$E,Bokningar!$A:$A,Personer!$A$3,Bokningar!$D:$D,E$4),0))) | F20: =IF(Personer!$A$3="","",MAX(0,ROUND(Personer!$D$3*(Personer!$C$3-SUMIFS('Frånvaro'!$C:$C,'Frånvaro'!$A:$A,Personer!$A$3,'Frånvaro'!$B:$B,F$4))-SUMIFS(Bokningar!$E:$E,Bokningar!$A:$A,Personer!$A$3,Bokningar!$D:$D,F$4),0))) | G20: =IF(Personer!$A$3="","",MAX(0,ROUND(Personer!$D$3*(Personer!$C$3-SUMIFS('Frånvaro'!$C:$C,'Frånvaro'!$A:$A,Personer!$A$3,'Frånvaro'!$B:$B,G$4))-SUMIFS(Bokningar!$E:$E,Bokningar!$A:$A,Personer!$A$3,Bokningar!$D:$D,G$4),0))) | H20: =IF(Personer!$A$3="","",MAX(0,ROUND(Personer!$D$3*(Personer!$C$3-SUMIFS('Frånvaro'!$C:$C,'Frånvaro'!$A:$A,Personer!$A$3,'Frånvaro'!$B:$B,H$4))-SUMIFS(Bokningar!$E:$E,Bokningar!$A:$A,Personer!$A$3,Bokningar!$D:$D,H$4),0))) | I20: =IF(Personer!$A$3="","",MAX(0,ROUND(Personer!$D$3*(Personer!$C$3-SUMIFS('Frånvaro'!$C:$C,'Frånvaro'!$A:$A,Personer!$A$3,'Frånvaro'!$B:$B,I$4))-SUMIFS(Bokningar!$E:$E,Bokningar!$A:$A,Personer!$A$3,Bokningar!$D:$D,I$4),0)))
A21: =IF(Personer!A4="","",Personer!A4) | B21: =IF(Personer!$A$4="","",MAX(0,ROUND(Personer!$D$4*(Personer!$C$4-SUMIFS('Frånvaro'!$C:$C,'Frånvaro'!$A:$A,Personer!$A$4,'Frånvaro'!$B:$B,B$4))-SUMIFS(Bokningar!$E:$E,Bokningar!$A:$A,Personer!$A$4,Bokningar!$D:$D,B$4),0))) | C21: =IF(Personer!$A$4="","",MAX(0,ROUND(Personer!$D$4*(Personer!$C$4-SUMIFS('Frånvaro'!$C:$C,'Frånvaro'!$A:$A,Personer!$A$4,'Frånvaro'!$B:$B,C$4))-SUMIFS(Bokningar!$E:$E,Bokningar!$A:$A,Personer!$A$4,Bokningar!$D:$D,C$4),0))) | D21: =IF(Personer!$A$4="","",MAX(0,ROUND(Personer!$D$4*(Personer!$C$4-SUMIFS('Frånvaro'!$C:$C,'Frånvaro'!$A:$A,Personer!$A$4,'Frånvaro'!$B:$B,D$4))-SUMIFS(Bokningar!$E:$E,Bokningar!$A:$A,Personer!$A$4,Bokningar!$D:$D,D$4),0))) | E21: =IF(Personer!$A$4="","",MAX(0,ROUND(Personer!$D$4*(Personer!$C$4-SUMIFS('Frånvaro'!$C:$C,'Frånvaro'!$A:$A,Personer!$A$4,'Frånvaro'!$B:$B,E$4))-SUMIFS(Bokningar!$E:$E,Bokningar!$A:$A,Personer!$A$4,Bokningar!$D:$D,E$4),0))) | F21: =IF(Personer!$A$4="","",MAX(0,ROUND(Personer!$D$4*(Personer!$C$4-SUMIFS('Frånvaro'!$C:$C,'Frånvaro'!$A:$A,Personer!$A$4,'Frånvaro'!$B:$B,F$4))-SUMIFS(Bokningar!$E:$E,Bokningar!$A:$A,Personer!$A$4,Bokningar!$D:$D,F$4),0))) | G21: =IF(Personer!$A$4="","",MAX(0,ROUND(Personer!$D$4*(Personer!$C$4-SUMIFS('Frånvaro'!$C:$C,'Frånvaro'!$A:$A,Personer!$A$4,'Frånvaro'!$B:$B,G$4))-SUMIFS(Bokningar!$E:$E,Bokningar!$A:$A,Personer!$A$4,Bokningar!$D:$D,G$4),0))) | H21: =IF(Personer!$A$4="","",MAX(0,ROUND(Personer!$D$4*(Personer!$C$4-SUMIFS('Frånvaro'!$C:$C,'Frånvaro'!$A:$A,Personer!$A$4,'Frånvaro'!$B:$B,H$4))-SUMIFS(Bokningar!$E:$E,Bokningar!$A:$A,Personer!$A$4,Bokningar!$D:$D,H$4),0))) | I21: =IF(Personer!$A$4="","",MAX(0,ROUND(Personer!$D$4*(Personer!$C$4-SUMIFS('Frånvaro'!$C:$C,'Frånvaro'!$A:$A,Personer!$A$4,'Frånvaro'!$B:$B,I$4))-SUMIFS(Bokningar!$E:$E,Bokningar!$A:$A,Personer!$A$4,Bokningar!$D:$D,I$4),0)))
A22: =IF(Personer!A5="","",Personer!A5) | B22: =IF(Personer!$A$5="","",MAX(0,ROUND(Personer!$D$5*(Personer!$C$5-SUMIFS('Frånvaro'!$C:$C,'Frånvaro'!$A:$A,Personer!$A$5,'Frånvaro'!$B:$B,B$4))-SUMIFS(Bokningar!$E:$E,Bokningar!$A:$A,Personer!$A$5,Bokningar!$D:$D,B$4),0))) | C22: =IF(Personer!$A$5="","",MAX(0,ROUND(Personer!$D$5*(Personer!$C$5-SUMIFS('Frånvaro'!$C:$C,'Frånvaro'!$A:$A,Personer!$A$5,'Frånvaro'!$B:$B,C$4))-SUMIFS(Bokningar!$E:$E,Bokningar!$A:$A,Personer!$A$5,Bokningar!$D:$D,C$4),0))) | D22: =IF(Personer!$A$5="","",MAX(0,ROUND(Personer!$D$5*(Personer!$C$5-SUMIFS('Frånvaro'!$C:$C,'Frånvaro'!$A:$A,Personer!$A$5,'Frånvaro'!$B:$B,D$4))-SUMIFS(Bokningar!$E:$E,Bokningar!$A:$A,Personer!$A$5,Bokningar!$D:$D,D$4),0))) | E22: =IF(Personer!$A$5="","",MAX(0,ROUND(Personer!$D$5*(Personer!$C$5-SUMIFS('Frånvaro'!$C:$C,'Frånvaro'!$A:$A,Personer!$A$5,'Frånvaro'!$B:$B,E$4))-SUMIFS(Bokningar!$E:$E,Bokningar!$A:$A,Personer!$A$5,Bokningar!$D:$D,E$4),0))) | F22: =IF(Personer!$A$5="","",MAX(0,ROUND(Personer!$D$5*(Personer!$C$5-SUMIFS('Frånvaro'!$C:$C,'Frånvaro'!$A:$A,Personer!$A$5,'Frånvaro'!$B:$B,F$4))-SUMIFS(Bokningar!$E:$E,Bokningar!$A:$A,Personer!$A$5,Bokningar!$D:$D,F$4),0))) | G22: =IF(Personer!$A$5="","",MAX(0,ROUND(Personer!$D$5*(Personer!$C$5-SUMIFS('Frånvaro'!$C:$C,'Frånvaro'!$A:$A,Personer!$A$5,'Frånvaro'!$B:$B,G$4))-SUMIFS(Bokningar!$E:$E,Bokningar!$A:$A,Personer!$A$5,Bokningar!$D:$D,G$4),0))) | H22: =IF(Personer!$A$5="","",MAX(0,ROUND(Personer!$D$5*(Personer!$C$5-SUMIFS('Frånvaro'!$C:$C,'Frånvaro'!$A:$A,Personer!$A$5,'Frånvaro'!$B:$B,H$4))-SUMIFS(Bokningar!$E:$E,Bokningar!$A:$A,Personer!$A$5,Bokningar!$D:$D,H$4),0))) | I22: =IF(Personer!$A$5="","",MAX(0,ROUND(Personer!$D$5*(Personer!$C$5-SUMIFS('Frånvaro'!$C:$C,'Frånvaro'!$A:$A,Personer!$A$5,'Frånvaro'!$B:$B,I$4))-SUMIFS(Bokningar!$E:$E,Bokningar!$A:$A,Personer!$A$5,Bokningar!$D:$D,I$4),0)))
A23: =IF(Personer!A6="","",Personer!A6) | B23: =IF(Personer!$A$6="","",MAX(0,ROUND(Personer!$D$6*(Personer!$C$6-SUMIFS('Frånvaro'!$C:$C,'Frånvaro'!$A:$A,Personer!$A$6,'Frånvaro'!$B:$B,B$4))-SUMIFS(Bokningar!$E:$E,Bokningar!$A:$A,Personer!$A$6,Bokningar!$D:$D,B$4),0))) | C23: =IF(Personer!$A$6="","",MAX(0,ROUND(Personer!$D$6*(Personer!$C$6-SUMIFS('Frånvaro'!$C:$C,'Frånvaro'!$A:$A,Personer!$A$6,'Frånvaro'!$B:$B,C$4))-SUMIFS(Bokningar!$E:$E,Bokningar!$A:$A,Personer!$A$6,Bokningar!$D:$D,C$4),0))) | D23: =IF(Personer!$A$6="","",MAX(0,ROUND(Personer!$D$6*(Personer!$C$6-SUMIFS('Frånvaro'!$C:$C,'Frånvaro'!$A:$A,Personer!$A$6,'Frånvaro'!$B:$B,D$4))-SUMIFS(Bokningar!$E:$E,Bokningar!$A:$A,Personer!$A$6,Bokningar!$D:$D,D$4),0))) | E23: =IF(Personer!$A$6="","",MAX(0,ROUND(Personer!$D$6*(Personer!$C$6-SUMIFS('Frånvaro'!$C:$C,'Frånvaro'!$A:$A,Personer!$A$6,'Frånvaro'!$B:$B,E$4))-SUMIFS(Bokningar!$E:$E,Bokningar!$A:$A,Personer!$A$6,Bokningar!$D:$D,E$4),0))) | F23: =IF(Personer!$A$6="","",MAX(0,ROUND(Personer!$D$6*(Personer!$C$6-SUMIFS('Frånvaro'!$C:$C,'Frånvaro'!$A:$A,Personer!$A$6,'Frånvaro'!$B:$B,F$4))-SUMIFS(Bokningar!$E:$E,Bokningar!$A:$A,Personer!$A$6,Bokningar!$D:$D,F$4),0))) | G23: =IF(Personer!$A$6="","",MAX(0,ROUND(Personer!$D$6*(Personer!$C$6-SUMIFS('Frånvaro'!$C:$C,'Frånvaro'!$A:$A,Personer!$A$6,'Frånvaro'!$B:$B,G$4))-SUMIFS(Bokningar!$E:$E,Bokningar!$A:$A,Personer!$A$6,Bokningar!$D:$D,G$4),0))) | H23: =IF(Personer!$A$6="","",MAX(0,ROUND(Personer!$D$6*(Personer!$C$6-SUMIFS('Frånvaro'!$C:$C,'Frånvaro'!$A:$A,Personer!$A$6,'Frånvaro'!$B:$B,H$4))-SUMIFS(Bokningar!$E:$E,Bokningar!$A:$A,Personer!$A$6,Bokningar!$D:$D,H$4),0))) | I23: =IF(Personer!$A$6="","",MAX(0,ROUND(Personer!$D$6*(Personer!$C$6-SUMIFS('Frånvaro'!$C:$C,'Frånvaro'!$A:$A,Personer!$A$6,'Frånvaro'!$B:$B,I$4))-SUMIFS(Bokningar!$E:$E,Bokningar!$A:$A,Personer!$A$6,Bokningar!$D:$D,I$4),0)))
A24: =IF(Personer!A7="","",Personer!A7) | B24: =IF(Personer!$A$7="","",MAX(0,ROUND(Personer!$D$7*(Personer!$C$7-SUMIFS('Frånvaro'!$C:$C,'Frånvaro'!$A:$A,Personer!$A$7,'Frånvaro'!$B:$B,B$4))-SUMIFS(Bokningar!$E:$E,Bokningar!$A:$A,Personer!$A$7,Bokningar!$D:$D,B$4),0))) | C24: =IF(Personer!$A$7="","",MAX(0,ROUND(Personer!$D$7*(Personer!$C$7-SUMIFS('Frånvaro'!$C:$C,'Frånvaro'!$A:$A,Personer!$A$7,'Frånvaro'!$B:$B,C$4))-SUMIFS(Bokningar!$E:$E,Bokningar!$A:$A,Personer!$A$7,Bokningar!$D:$D,C$4),0))) | D24: =IF(Personer!$A$7="","",MAX(0,ROUND(Personer!$D$7*(Personer!$C$7-SUMIFS('Frånvaro'!$C:$C,'Frånvaro'!$A:$A,Personer!$A$7,'Frånvaro'!$B:$B,D$4))-SUMIFS(Bokningar!$E:$E,Bokningar!$A:$A,Personer!$A$7,Bokningar!$D:$D,D$4),0))) | E24: =IF(Personer!$A$7="","",MAX(0,ROUND(Personer!$D$7*(Personer!$C$7-SUMIFS('Frånvaro'!$C:$C,'Frånvaro'!$A:$A,Personer!$A$7,'Frånvaro'!$B:$B,E$4))-SUMIFS(Bokningar!$E:$E,Bokningar!$A:$A,Personer!$A$7,Bokningar!$D:$D,E$4),0))) | F24: =IF(Personer!$A$7="","",MAX(0,ROUND(Personer!$D$7*(Personer!$C$7-SUMIFS('Frånvaro'!$C:$C,'Frånvaro'!$A:$A,Personer!$A$7,'Frånvaro'!$B:$B,F$4))-SUMIFS(Bokningar!$E:$E,Bokningar!$A:$A,Personer!$A$7,Bokningar!$D:$D,F$4),0))) | G24: =IF(Personer!$A$7="","",MAX(0,ROUND(Personer!$D$7*(Personer!$C$7-SUMIFS('Frånvaro'!$C:$C,'Frånvaro'!$A:$A,Personer!$A$7,'Frånvaro'!$B:$B,G$4))-SUMIFS(Bokningar!$E:$E,Bokningar!$A:$A,Personer!$A$7,Bokningar!$D:$D,G$4),0))) | H24: =IF(Personer!$A$7="","",MAX(0,ROUND(Personer!$D$7*(Personer!$C$7-SUMIFS('Frånvaro'!$C:$C,'Frånvaro'!$A:$A,Personer!$A$7,'Frånvaro'!$B:$B,H$4))-SUMIFS(Bokningar!$E:$E,Bokningar!$A:$A,Personer!$A$7,Bokningar!$D:$D,H$4),0))) | I24: =IF(Personer!$A$7="","",MAX(0,ROUND(Personer!$D$7*(Personer!$C$7-SUMIFS('Frånvaro'!$C:$C,'Frånvaro'!$A:$A,Personer!$A$7,'Frånvaro'!$B:$B,I$4))-SUMIFS(Bokningar!$E:$E,Bokningar!$A:$A,Personer!$A$7,Bokningar!$D:$D,I$4),0)))
A25: =IF(Personer!A8="","",Personer!A8) | B25: =IF(Personer!$A$8="","",MAX(0,ROUND(Personer!$D$8*(Personer!$C$8-SUMIFS('Frånvaro'!$C:$C,'Frånvaro'!$A:$A,Personer!$A$8,'Frånvaro'!$B:$B,B$4))-SUMIFS(Bokningar!$E:$E,Bokningar!$A:$A,Personer!$A$8,Bokningar!$D:$D,B$4),0))) | C25: =IF(Personer!$A$8="","",MAX(0,ROUND(Personer!$D$8*(Personer!$C$8-SUMIFS('Frånvaro'!$C:$C,'Frånvaro'!$A:$A,Personer!$A$8,'Frånvaro'!$B:$B,C$4))-SUMIFS(Bokningar!$E:$E,Bokningar!$A:$A,Personer!$A$8,Bokningar!$D:$D,C$4),0))) | D25: =IF(Personer!$A$8="","",MAX(0,ROUND(Personer!$D$8*(Personer!$C$8-SUMIFS('Frånvaro'!$C:$C,'Frånvaro'!$A:$A,Personer!$A$8,'Frånvaro'!$B:$B,D$4))-SUMIFS(Bokningar!$E:$E,Bokningar!$A:$A,Personer!$A$8,Bokningar!$D:$D,D$4),0))) | E25: =IF(Personer!$A$8="","",MAX(0,ROUND(Personer!$D$8*(Personer!$C$8-SUMIFS('Frånvaro'!$C:$C,'Frånvaro'!$A:$A,Personer!$A$8,'Frånvaro'!$B:$B,E$4))-SUMIFS(Bokningar!$E:$E,Bokningar!$A:$A,Personer!$A$8,Bokningar!$D:$D,E$4),0))) | F25: =IF(Personer!$A$8="","",MAX(0,ROUND(Personer!$D$8*(Personer!$C$8-SUMIFS('Frånvaro'!$C:$C,'Frånvaro'!$A:$A,Personer!$A$8,'Frånvaro'!$B:$B,F$4))-SUMIFS(Bokningar!$E:$E,Bokningar!$A:$A,Personer!$A$8,Bokningar!$D:$D,F$4),0))) | G25: =IF(Personer!$A$8="","",MAX(0,ROUND(Personer!$D$8*(Personer!$C$8-SUMIFS('Frånvaro'!$C:$C,'Frånvaro'!$A:$A,Personer!$A$8,'Frånvaro'!$B:$B,G$4))-SUMIFS(Bokningar!$E:$E,Bokningar!$A:$A,Personer!$A$8,Bokningar!$D:$D,G$4),0))) | H25: =IF(Personer!$A$8="","",MAX(0,ROUND(Personer!$D$8*(Personer!$C$8-SUMIFS('Frånvaro'!$C:$C,'Frånvaro'!$A:$A,Personer!$A$8,'Frånvaro'!$B:$B,H$4))-SUMIFS(Bokningar!$E:$E,Bokningar!$A:$A,Personer!$A$8,Bokningar!$D:$D,H$4),0))) | I25: =IF(Personer!$A$8="","",MAX(0,ROUND(Personer!$D$8*(Personer!$C$8-SUMIFS('Frånvaro'!$C:$C,'Frånvaro'!$A:$A,Personer!$A$8,'Frånvaro'!$B:$B,I$4))-SUMIFS(Bokningar!$E:$E,Bokningar!$A:$A,Personer!$A$8,Bokningar!$D:$D,I$4),0)))
A26: =IF(Personer!A9="","",Personer!A9) | B26: =IF(Personer!$A$9="","",MAX(0,ROUND(Personer!$D$9*(Personer!$C$9-SUMIFS('Frånvaro'!$C:$C,'Frånvaro'!$A:$A,Personer!$A$9,'Frånvaro'!$B:$B,B$4))-SUMIFS(Bokningar!$E:$E,Bokningar!$A:$A,Personer!$A$9,Bokningar!$D:$D,B$4),0))) | C26: =IF(Personer!$A$9="","",MAX(0,ROUND(Personer!$D$9*(Personer!$C$9-SUMIFS('Frånvaro'!$C:$C,'Frånvaro'!$A:$A,Personer!$A$9,'Frånvaro'!$B:$B,C$4))-SUMIFS(Bokningar!$E:$E,Bokningar!$A:$A,Personer!$A$9,Bokningar!$D:$D,C$4),0))) | D26: =IF(Personer!$A$9="","",MAX(0,ROUND(Personer!$D$9*(Personer!$C$9-SUMIFS('Frånvaro'!$C:$C,'Frånvaro'!$A:$A,Personer!$A$9,'Frånvaro'!$B:$B,D$4))-SUMIFS(Bokningar!$E:$E,Bokningar!$A:$A,Personer!$A$9,Bokningar!$D:$D,D$4),0))) | E26: =IF(Personer!$A$9="","",MAX(0,ROUND(Personer!$D$9*(Personer!$C$9-SUMIFS('Frånvaro'!$C:$C,'Frånvaro'!$A:$A,Personer!$A$9,'Frånvaro'!$B:$B,E$4))-SUMIFS(Bokningar!$E:$E,Bokningar!$A:$A,Personer!$A$9,Bokningar!$D:$D,E$4),0))) | F26: =IF(Personer!$A$9="","",MAX(0,ROUND(Personer!$D$9*(Personer!$C$9-SUMIFS('Frånvaro'!$C:$C,'Frånvaro'!$A:$A,Personer!$A$9,'Frånvaro'!$B:$B,F$4))-SUMIFS(Bokningar!$E:$E,Bokningar!$A:$A,Personer!$A$9,Bokningar!$D:$D,F$4),0))) | G26: =IF(Personer!$A$9="","",MAX(0,ROUND(Personer!$D$9*(Personer!$C$9-SUMIFS('Frånvaro'!$C:$C,'Frånvaro'!$A:$A,Personer!$A$9,'Frånvaro'!$B:$B,G$4))-SUMIFS(Bokningar!$E:$E,Bokningar!$A:$A,Personer!$A$9,Bokningar!$D:$D,G$4),0))) | H26: =IF(Personer!$A$9="","",MAX(0,ROUND(Personer!$D$9*(Personer!$C$9-SUMIFS('Frånvaro'!$C:$C,'Frånvaro'!$A:$A,Personer!$A$9,'Frånvaro'!$B:$B,H$4))-SUMIFS(Bokningar!$E:$E,Bokningar!$A:$A,Personer!$A$9,Bokningar!$D:$D,H$4),0))) | I26: =IF(Personer!$A$9="","",MAX(0,ROUND(Personer!$D$9*(Personer!$C$9-SUMIFS('Frånvaro'!$C:$C,'Frånvaro'!$A:$A,Personer!$A$9,'Frånvaro'!$B:$B,I$4))-SUMIFS(Bokningar!$E:$E,Bokningar!$A:$A,Personer!$A$9,Bokningar!$D:$D,I$4),0)))
A27: =IF(Personer!A10="","",Personer!A10) | B27: =IF(Personer!$A$10="","",MAX(0,ROUND(Personer!$D$10*(Personer!$C$10-SUMIFS('Frånvaro'!$C:$C,'Frånvaro'!$A:$A,Personer!$A$10,'Frånvaro'!$B:$B,B$4))-SUMIFS(Bokningar!$E:$E,Bokningar!$A:$A,Personer!$A$10,Bokningar!$D:$D,B$4),0))) | C27: =IF(Personer!$A$10="","",MAX(0,ROUND(Personer!$D$10*(Personer!$C$10-SUMIFS('Frånvaro'!$C:$C,'Frånvaro'!$A:$A,Personer!$A$10,'Frånvaro'!$B:$B,C$4))-SUMIFS(Bokningar!$E:$E,Bokningar!$A:$A,Personer!$A$10,Bokningar!$D:$D,C$4),0))) | D27: =IF(Personer!$A$10="","",MAX(0,ROUND(Personer!$D$10*(Personer!$C$10-SUMIFS('Frånvaro'!$C:$C,'Frånvaro'!$A:$A,Personer!$A$10,'Frånvaro'!$B:$B,D$4))-SUMIFS(Bokningar!$E:$E,Bokningar!$A:$A,Personer!$A$10,Bokningar!$D:$D,D$4),0))) | E27: =IF(Personer!$A$10="","",MAX(0,ROUND(Personer!$D$10*(Personer!$C$10-SUMIFS('Frånvaro'!$C:$C,'Frånvaro'!$A:$A,Personer!$A$10,'Frånvaro'!$B:$B,E$4))-SUMIFS(Bokningar!$E:$E,Bokningar!$A:$A,Personer!$A$10,Bokningar!$D:$D,E$4),0))) | F27: =IF(Personer!$A$10="","",MAX(0,ROUND(Personer!$D$10*(Personer!$C$10-SUMIFS('Frånvaro'!$C:$C,'Frånvaro'!$A:$A,Personer!$A$10,'Frånvaro'!$B:$B,F$4))-SUMIFS(Bokningar!$E:$E,Bokningar!$A:$A,Personer!$A$10,Bokningar!$D:$D,F$4),0))) | G27: =IF(Personer!$A$10="","",MAX(0,ROUND(Personer!$D$10*(Personer!$C$10-SUMIFS('Frånvaro'!$C:$C,'Frånvaro'!$A:$A,Personer!$A$10,'Frånvaro'!$B:$B,G$4))-SUMIFS(Bokningar!$E:$E,Bokningar!$A:$A,Personer!$A$10,Bokningar!$D:$D,G$4),0))) | H27: =IF(Personer!$A$10="","",MAX(0,ROUND(Personer!$D$10*(Personer!$C$10-SUMIFS('Frånvaro'!$C:$C,'Frånvaro'!$A:$A,Personer!$A$10,'Frånvaro'!$B:$B,H$4))-SUMIFS(Bokningar!$E:$E,Bokningar!$A:$A,Personer!$A$10,Bokningar!$D:$D,H$4),0))) | I27: =IF(Personer!$A$10="","",MAX(0,ROUND(Personer!$D$10*(Personer!$C$10-SUMIFS('Frånvaro'!$C:$C,'Frånvaro'!$A:$A,Personer!$A$10,'Frånvaro'!$B:$B,I$4))-SUMIFS(Bokningar!$E:$E,Bokningar!$A:$A,Personer!$A$10,Bokningar!$D:$D,I$4),0)))
A28: =IF(Personer!A11="","",Personer!A11) | B28: =IF(Personer!$A$11="","",MAX(0,ROUND(Personer!$D$11*(Personer!$C$11-SUMIFS('Frånvaro'!$C:$C,'Frånvaro'!$A:$A,Personer!$A$11,'Frånvaro'!$B:$B,B$4))-SUMIFS(Bokningar!$E:$E,Bokningar!$A:$A,Personer!$A$11,Bokningar!$D:$D,B$4),0))) | C28: =IF(Personer!$A$11="","",MAX(0,ROUND(Personer!$D$11*(Personer!$C$11-SUMIFS('Frånvaro'!$C:$C,'Frånvaro'!$A:$A,Personer!$A$11,'Frånvaro'!$B:$B,C$4))-SUMIFS(Bokningar!$E:$E,Bokningar!$A:$A,Personer!$A$11,Bokningar!$D:$D,C$4),0))) | D28: =IF(Personer!$A$11="","",MAX(0,ROUND(Personer!$D$11*(Personer!$C$11-SUMIFS('Frånvaro'!$C:$C,'Frånvaro'!$A:$A,Personer!$A$11,'Frånvaro'!$B:$B,D$4))-SUMIFS(Bokningar!$E:$E,Bokningar!$A:$A,Personer!$A$11,Bokningar!$D:$D,D$4),0))) | E28: =IF(Personer!$A$11="","",MAX(0,ROUND(Personer!$D$11*(Personer!$C$11-SUMIFS('Frånvaro'!$C:$C,'Frånvaro'!$A:$A,Personer!$A$11,'Frånvaro'!$B:$B,E$4))-SUMIFS(Bokningar!$E:$E,Bokningar!$A:$A,Personer!$A$11,Bokningar!$D:$D,E$4),0))) | F28: =IF(Personer!$A$11="","",MAX(0,ROUND(Personer!$D$11*(Personer!$C$11-SUMIFS('Frånvaro'!$C:$C,'Frånvaro'!$A:$A,Personer!$A$11,'Frånvaro'!$B:$B,F$4))-SUMIFS(Bokningar!$E:$E,Bokningar!$A:$A,Personer!$A$11,Bokningar!$D:$D,F$4),0))) | G28: =IF(Personer!$A$11="","",MAX(0,ROUND(Personer!$D$11*(Personer!$C$11-SUMIFS('Frånvaro'!$C:$C,'Frånvaro'!$A:$A,Personer!$A$11,'Frånvaro'!$B:$B,G$4))-SUMIFS(Bokningar!$E:$E,Bokningar!$A:$A,Personer!$A$11,Bokningar!$D:$D,G$4),0))) | H28: =IF(Personer!$A$11="","",MAX(0,ROUND(Personer!$D$11*(Personer!$C$11-SUMIFS('Frånvaro'!$C:$C,'Frånvaro'!$A:$A,Personer!$A$11,'Frånvaro'!$B:$B,H$4))-SUMIFS(Bokningar!$E:$E,Bokningar!$A:$A,Personer!$A$11,Bokningar!$D:$D,H$4),0))) | I28: =IF(Personer!$A$11="","",MAX(0,ROUND(Personer!$D$11*(Personer!$C$11-SUMIFS('Frånvaro'!$C:$C,'Frånvaro'!$A:$A,Personer!$A$11,'Frånvaro'!$B:$B,I$4))-SUMIFS(Bokningar!$E:$E,Bokningar!$A:$A,Personer!$A$11,Bokningar!$D:$D,I$4),0)))
A29: =IF(Personer!A12="","",Personer!A12) | B29: =IF(Personer!$A$12="","",MAX(0,ROUND(Personer!$D$12*(Personer!$C$12-SUMIFS('Frånvaro'!$C:$C,'Frånvaro'!$A:$A,Personer!$A$12,'Frånvaro'!$B:$B,B$4))-SUMIFS(Bokningar!$E:$E,Bokningar!$A:$A,Personer!$A$12,Bokningar!$D:$D,B$4),0))) | C29: =IF(Personer!$A$12="","",MAX(0,ROUND(Personer!$D$12*(Personer!$C$12-SUMIFS('Frånvaro'!$C:$C,'Frånvaro'!$A:$A,Personer!$A$12,'Frånvaro'!$B:$B,C$4))-SUMIFS(Bokningar!$E:$E,Bokningar!$A:$A,Personer!$A$12,Bokningar!$D:$D,C$4),0))) | D29: =IF(Personer!$A$12="","",MAX(0,ROUND(Personer!$D$12*(Personer!$C$12-SUMIFS('Frånvaro'!$C:$C,'Frånvaro'!$A:$A,Personer!$A$12,'Frånvaro'!$B:$B,D$4))-SUMIFS(Bokningar!$E:$E,Bokningar!$A:$A,Personer!$A$12,Bokningar!$D:$D,D$4),0))) | E29: =IF(Personer!$A$12="","",MAX(0,ROUND(Personer!$D$12*(Personer!$C$12-SUMIFS('Frånvaro'!$C:$C,'Frånvaro'!$A:$A,Personer!$A$12,'Frånvaro'!$B:$B,E$4))-SUMIFS(Bokningar!$E:$E,Bokningar!$A:$A,Personer!$A$12,Bokningar!$D:$D,E$4),0))) | F29: =IF(Personer!$A$12="","",MAX(0,ROUND(Personer!$D$12*(Personer!$C$12-SUMIFS('Frånvaro'!$C:$C,'Frånvaro'!$A:$A,Personer!$A$12,'Frånvaro'!$B:$B,F$4))-SUMIFS(Bokningar!$E:$E,Bokningar!$A:$A,Personer!$A$12,Bokningar!$D:$D,F$4),0))) | G29: =IF(Personer!$A$12="","",MAX(0,ROUND(Personer!$D$12*(Personer!$C$12-SUMIFS('Frånvaro'!$C:$C,'Frånvaro'!$A:$A,Personer!$A$12,'Frånvaro'!$B:$B,G$4))-SUMIFS(Bokningar!$E:$E,Bokningar!$A:$A,Personer!$A$12,Bokningar!$D:$D,G$4),0))) | H29: =IF(Personer!$A$12="","",MAX(0,ROUND(Personer!$D$12*(Personer!$C$12-SUMIFS('Frånvaro'!$C:$C,'Frånvaro'!$A:$A,Personer!$A$12,'Frånvaro'!$B:$B,H$4))-SUMIFS(Bokningar!$E:$E,Bokningar!$A:$A,Personer!$A$12,Bokningar!$D:$D,H$4),0))) | I29: =IF(Personer!$A$12="","",MAX(0,ROUND(Personer!$D$12*(Personer!$C$12-SUMIFS('Frånvaro'!$C:$C,'Frånvaro'!$A:$A,Personer!$A$12,'Frånvaro'!$B:$B,I$4))-SUMIFS(Bokningar!$E:$E,Bokningar!$A:$A,Personer!$A$12,Bokningar!$D:$D,I$4),0)))
A30: =IF(Personer!A13="","",Personer!A13) | B30: =IF(Personer!$A$13="","",MAX(0,ROUND(Personer!$D$13*(Personer!$C$13-SUMIFS('Frånvaro'!$C:$C,'Frånvaro'!$A:$A,Personer!$A$13,'Frånvaro'!$B:$B,B$4))-SUMIFS(Bokningar!$E:$E,Bokningar!$A:$A,Personer!$A$13,Bokningar!$D:$D,B$4),0))) | C30: =IF(Personer!$A$13="","",MAX(0,ROUND(Personer!$D$13*(Personer!$C$13-SUMIFS('Frånvaro'!$C:$C,'Frånvaro'!$A:$A,Personer!$A$13,'Frånvaro'!$B:$B,C$4))-SUMIFS(Bokningar!$E:$E,Bokningar!$A:$A,Personer!$A$13,Bokningar!$D:$D,C$4),0))) | D30: =IF(Personer!$A$13="","",MAX(0,ROUND(Personer!$D$13*(Personer!$C$13-SUMIFS('Frånvaro'!$C:$C,'Frånvaro'!$A:$A,Personer!$A$13,'Frånvaro'!$B:$B,D$4))-SUMIFS(Bokningar!$E:$E,Bokningar!$A:$A,Personer!$A$13,Bokningar!$D:$D,D$4),0))) | E30: =IF(Personer!$A$13="","",MAX(0,ROUND(Personer!$D$13*(Personer!$C$13-SUMIFS('Frånvaro'!$C:$C,'Frånvaro'!$A:$A,Personer!$A$13,'Frånvaro'!$B:$B,E$4))-SUMIFS(Bokningar!$E:$E,Bokningar!$A:$A,Personer!$A$13,Bokningar!$D:$D,E$4),0))) | F30: =IF(Personer!$A$13="","",MAX(0,ROUND(Personer!$D$13*(Personer!$C$13-SUMIFS('Frånvaro'!$C:$C,'Frånvaro'!$A:$A,Personer!$A$13,'Frånvaro'!$B:$B,F$4))-SUMIFS(Bokningar!$E:$E,Bokningar!$A:$A,Personer!$A$13,Bokningar!$D:$D,F$4),0))) | G30: =IF(Personer!$A$13="","",MAX(0,ROUND(Personer!$D$13*(Personer!$C$13-SUMIFS('Frånvaro'!$C:$C,'Frånvaro'!$A:$A,Personer!$A$13,'Frånvaro'!$B:$B,G$4))-SUMIFS(Bokningar!$E:$E,Bokningar!$A:$A,Personer!$A$13,Bokningar!$D:$D,G$4),0))) | H30: =IF(Personer!$A$13="","",MAX(0,ROUND(Personer!$D$13*(Personer!$C$13-SUMIFS('Frånvaro'!$C:$C,'Frånvaro'!$A:$A,Personer!$A$13,'Frånvaro'!$B:$B,H$4))-SUMIFS(Bokningar!$E:$E,Bokningar!$A:$A,Personer!$A$13,Bokningar!$D:$D,H$4),0))) | I30: =IF(Personer!$A$13="","",MAX(0,ROUND(Personer!$D$13*(Personer!$C$13-SUMIFS('Frånvaro'!$C:$C,'Frånvaro'!$A:$A,Personer!$A$13,'Frånvaro'!$B:$B,I$4))-SUMIFS(Bokningar!$E:$E,Bokningar!$A:$A,Personer!$A$13,Bokningar!$D:$D,I$4),0)))
A32: Varav preliminärt bokat, timmar | B32: =B$4 | C32: =C$4 | D32: =D$4 | E32: =E$4 | F32: =F$4 | G32: =G$4 | H32: =H$4 | I32: =I$4
A33: =IF(Personer!A2="","",Personer!A2) | B33: =IF(Personer!$A$2="","",SUMIFS(Bokningar!$E:$E,Bokningar!$A:$A,Personer!$A$2,Bokningar!$D:$D,B$4,Bokningar!$F:$F,"Preliminär")) | C33: =IF(Personer!$A$2="","",SUMIFS(Bokningar!$E:$E,Bokningar!$A:$A,Personer!$A$2,Bokningar!$D:$D,C$4,Bokningar!$F:$F,"Preliminär")) | D33: =IF(Personer!$A$2="","",SUMIFS(Bokningar!$E:$E,Bokningar!$A:$A,Personer!$A$2,Bokningar!$D:$D,D$4,Bokningar!$F:$F,"Preliminär")) | E33: =IF(Personer!$A$2="","",SUMIFS(Bokningar!$E:$E,Bokningar!$A:$A,Personer!$A$2,Bokningar!$D:$D,E$4,Bokningar!$F:$F,"Preliminär")) | F33: =IF(Personer!$A$2="","",SUMIFS(Bokningar!$E:$E,Bokningar!$A:$A,Personer!$A$2,Bokningar!$D:$D,F$4,Bokningar!$F:$F,"Preliminär")) | G33: =IF(Personer!$A$2="","",SUMIFS(Bokningar!$E:$E,Bokningar!$A:$A,Personer!$A$2,Bokningar!$D:$D,G$4,Bokningar!$F:$F,"Preliminär")) | H33: =IF(Personer!$A$2="","",SUMIFS(Bokningar!$E:$E,Bokningar!$A:$A,Personer!$A$2,Bokningar!$D:$D,H$4,Bokningar!$F:$F,"Preliminär")) | I33: =IF(Personer!$A$2="","",SUMIFS(Bokningar!$E:$E,Bokningar!$A:$A,Personer!$A$2,Bokningar!$D:$D,I$4,Bokningar!$F:$F,"Preliminär"))
A34: =IF(Personer!A3="","",Personer!A3) | B34: =IF(Personer!$A$3="","",SUMIFS(Bokningar!$E:$E,Bokningar!$A:$A,Personer!$A$3,Bokningar!$D:$D,B$4,Bokningar!$F:$F,"Preliminär")) | C34: =IF(Personer!$A$3="","",SUMIFS(Bokningar!$E:$E,Bokningar!$A:$A,Personer!$A$3,Bokningar!$D:$D,C$4,Bokningar!$F:$F,"Preliminär")) | D34: =IF(Personer!$A$3="","",SUMIFS(Bokningar!$E:$E,Bokningar!$A:$A,Personer!$A$3,Bokningar!$D:$D,D$4,Bokningar!$F:$F,"Preliminär")) | E34: =IF(Personer!$A$3="","",SUMIFS(Bokningar!$E:$E,Bokningar!$A:$A,Personer!$A$3,Bokningar!$D:$D,E$4,Bokningar!$F:$F,"Preliminär")) | F34: =IF(Personer!$A$3="","",SUMIFS(Bokningar!$E:$E,Bokningar!$A:$A,Personer!$A$3,Bokningar!$D:$D,F$4,Bokningar!$F:$F,"Preliminär")) | G34: =IF(Personer!$A$3="","",SUMIFS(Bokningar!$E:$E,Bokningar!$A:$A,Personer!$A$3,Bokningar!$D:$D,G$4,Bokningar!$F:$F,"Preliminär")) | H34: =IF(Personer!$A$3="","",SUMIFS(Bokningar!$E:$E,Bokningar!$A:$A,Personer!$A$3,Bokningar!$D:$D,H$4,Bokningar!$F:$F,"Preliminär")) | I34: =IF(Personer!$A$3="","",SUMIFS(Bokningar!$E:$E,Bokningar!$A:$A,Personer!$A$3,Bokningar!$D:$D,I$4,Bokningar!$F:$F,"Preliminär"))
A35: =IF(Personer!A4="","",Personer!A4) | B35: =IF(Personer!$A$4="","",SUMIFS(Bokningar!$E:$E,Bokningar!$A:$A,Personer!$A$4,Bokningar!$D:$D,B$4,Bokningar!$F:$F,"Preliminär")) | C35: =IF(Personer!$A$4="","",SUMIFS(Bokningar!$E:$E,Bokningar!$A:$A,Personer!$A$4,Bokningar!$D:$D,C$4,Bokningar!$F:$F,"Preliminär")) | D35: =IF(Personer!$A$4="","",SUMIFS(Bokningar!$E:$E,Bokningar!$A:$A,Personer!$A$4,Bokningar!$D:$D,D$4,Bokningar!$F:$F,"Preliminär")) | E35: =IF(Personer!$A$4="","",SUMIFS(Bokningar!$E:$E,Bokningar!$A:$A,Personer!$A$4,Bokningar!$D:$D,E$4,Bokningar!$F:$F,"Preliminär")) | F35: =IF(Personer!$A$4="","",SUMIFS(Bokningar!$E:$E,Bokningar!$A:$A,Personer!$A$4,Bokningar!$D:$D,F$4,Bokningar!$F:$F,"Preliminär")) | G35: =IF(Personer!$A$4="","",SUMIFS(Bokningar!$E:$E,Bokningar!$A:$A,Personer!$A$4,Bokningar!$D:$D,G$4,Bokningar!$F:$F,"Preliminär")) | H35: =IF(Personer!$A$4="","",SUMIFS(Bokningar!$E:$E,Bokningar!$A:$A,Personer!$A$4,Bokningar!$D:$D,H$4,Bokningar!$F:$F,"Preliminär")) | I35: =IF(Personer!$A$4="","",SUMIFS(Bokningar!$E:$E,Bokningar!$A:$A,Personer!$A$4,Bokningar!$D:$D,I$4,Bokningar!$F:$F,"Preliminär"))
A36: =IF(Personer!A5="","",Personer!A5) | B36: =IF(Personer!$A$5="","",SUMIFS(Bokningar!$E:$E,Bokningar!$A:$A,Personer!$A$5,Bokningar!$D:$D,B$4,Bokningar!$F:$F,"Preliminär")) | C36: =IF(Personer!$A$5="","",SUMIFS(Bokningar!$E:$E,Bokningar!$A:$A,Personer!$A$5,Bokningar!$D:$D,C$4,Bokningar!$F:$F,"Preliminär")) | D36: =IF(Personer!$A$5="","",SUMIFS(Bokningar!$E:$E,Bokningar!$A:$A,Personer!$A$5,Bokningar!$D:$D,D$4,Bokningar!$F:$F,"Preliminär")) | E36: =IF(Personer!$A$5="","",SUMIFS(Bokningar!$E:$E,Bokningar!$A:$A,Personer!$A$5,Bokningar!$D:$D,E$4,Bokningar!$F:$F,"Preliminär")) | F36: =IF(Personer!$A$5="","",SUMIFS(Bokningar!$E:$E,Bokningar!$A:$A,Personer!$A$5,Bokningar!$D:$D,F$4,Bokningar!$F:$F,"Preliminär")) | G36: =IF(Personer!$A$5="","",SUMIFS(Bokningar!$E:$E,Bokningar!$A:$A,Personer!$A$5,Bokningar!$D:$D,G$4,Bokningar!$F:$F,"Preliminär")) | H36: =IF(Personer!$A$5="","",SUMIFS(Bokningar!$E:$E,Bokningar!$A:$A,Personer!$A$5,Bokningar!$D:$D,H$4,Bokningar!$F:$F,"Preliminär")) | I36: =IF(Personer!$A$5="","",SUMIFS(Bokningar!$E:$E,Bokningar!$A:$A,Personer!$A$5,Bokningar!$D:$D,I$4,Bokningar!$F:$F,"Preliminär"))
A37: =IF(Personer!A6="","",Personer!A6) | B37: =IF(Personer!$A$6="","",SUMIFS(Bokningar!$E:$E,Bokningar!$A:$A,Personer!$A$6,Bokningar!$D:$D,B$4,Bokningar!$F:$F,"Preliminär")) | C37: =IF(Personer!$A$6="","",SUMIFS(Bokningar!$E:$E,Bokningar!$A:$A,Personer!$A$6,Bokningar!$D:$D,C$4,Bokningar!$F:$F,"Preliminär")) | D37: =IF(Personer!$A$6="","",SUMIFS(Bokningar!$E:$E,Bokningar!$A:$A,Personer!$A$6,Bokningar!$D:$D,D$4,Bokningar!$F:$F,"Preliminär")) | E37: =IF(Personer!$A$6="","",SUMIFS(Bokningar!$E:$E,Bokningar!$A:$A,Personer!$A$6,Bokningar!$D:$D,E$4,Bokningar!$F:$F,"Preliminär")) | F37: =IF(Personer!$A$6="","",SUMIFS(Bokningar!$E:$E,Bokningar!$A:$A,Personer!$A$6,Bokningar!$D:$D,F$4,Bokningar!$F:$F,"Preliminär")) | G37: =IF(Personer!$A$6="","",SUMIFS(Bokningar!$E:$E,Bokningar!$A:$A,Personer!$A$6,Bokningar!$D:$D,G$4,Bokningar!$F:$F,"Preliminär")) | H37: =IF(Personer!$A$6="","",SUMIFS(Bokningar!$E:$E,Bokningar!$A:$A,Personer!$A$6,Bokningar!$D:$D,H$4,Bokningar!$F:$F,"Preliminär")) | I37: =IF(Personer!$A$6="","",SUMIFS(Bokningar!$E:$E,Bokningar!$A:$A,Personer!$A$6,Bokningar!$D:$D,I$4,Bokningar!$F:$F,"Preliminär"))
A38: =IF(Personer!A7="","",Personer!A7) | B38: =IF(Personer!$A$7="","",SUMIFS(Bokningar!$E:$E,Bokningar!$A:$A,Personer!$A$7,Bokningar!$D:$D,B$4,Bokningar!$F:$F,"Preliminär")) | C38: =IF(Personer!$A$7="","",SUMIFS(Bokningar!$E:$E,Bokningar!$A:$A,Personer!$A$7,Bokningar!$D:$D,C$4,Bokningar!$F:$F,"Preliminär")) | D38: =IF(Personer!$A$7="","",SUMIFS(Bokningar!$E:$E,Bokningar!$A:$A,Personer!$A$7,Bokningar!$D:$D,D$4,Bokningar!$F:$F,"Preliminär")) | E38: =IF(Personer!$A$7="","",SUMIFS(Bokningar!$E:$E,Bokningar!$A:$A,Personer!$A$7,Bokningar!$D:$D,E$4,Bokningar!$F:$F,"Preliminär")) | F38: =IF(Personer!$A$7="","",SUMIFS(Bokningar!$E:$E,Bokningar!$A:$A,Personer!$A$7,Bokningar!$D:$D,F$4,Bokningar!$F:$F,"Preliminär")) | G38: =IF(Personer!$A$7="","",SUMIFS(Bokningar!$E:$E,Bokningar!$A:$A,Personer!$A$7,Bokningar!$D:$D,G$4,Bokningar!$F:$F,"Preliminär")) | H38: =IF(Personer!$A$7="","",SUMIFS(Bokningar!$E:$E,Bokningar!$A:$A,Personer!$A$7,Bokningar!$D:$D,H$4,Bokningar!$F:$F,"Preliminär")) | I38: =IF(Personer!$A$7="","",SUMIFS(Bokningar!$E:$E,Bokningar!$A:$A,Personer!$A$7,Bokningar!$D:$D,I$4,Bokningar!$F:$F,"Preliminär"))
A39: =IF(Personer!A8="","",Personer!A8) | B39: =IF(Personer!$A$8="","",SUMIFS(Bokningar!$E:$E,Bokningar!$A:$A,Personer!$A$8,Bokningar!$D:$D,B$4,Bokningar!$F:$F,"Preliminär")) | C39: =IF(Personer!$A$8="","",SUMIFS(Bokningar!$E:$E,Bokningar!$A:$A,Personer!$A$8,Bokningar!$D:$D,C$4,Bokningar!$F:$F,"Preliminär")) | D39: =IF(Personer!$A$8="","",SUMIFS(Bokningar!$E:$E,Bokningar!$A:$A,Personer!$A$8,Bokningar!$D:$D,D$4,Bokningar!$F:$F,"Preliminär")) | E39: =IF(Personer!$A$8="","",SUMIFS(Bokningar!$E:$E,Bokningar!$A:$A,Personer!$A$8,Bokningar!$D:$D,E$4,Bokningar!$F:$F,"Preliminär")) | F39: =IF(Personer!$A$8="","",SUMIFS(Bokningar!$E:$E,Bokningar!$A:$A,Personer!$A$8,Bokningar!$D:$D,F$4,Bokningar!$F:$F,"Preliminär")) | G39: =IF(Personer!$A$8="","",SUMIFS(Bokningar!$E:$E,Bokningar!$A:$A,Personer!$A$8,Bokningar!$D:$D,G$4,Bokningar!$F:$F,"Preliminär")) | H39: =IF(Personer!$A$8="","",SUMIFS(Bokningar!$E:$E,Bokningar!$A:$A,Personer!$A$8,Bokningar!$D:$D,H$4,Bokningar!$F:$F,"Preliminär")) | I39: =IF(Personer!$A$8="","",SUMIFS(Bokningar!$E:$E,Bokningar!$A:$A,Personer!$A$8,Bokningar!$D:$D,I$4,Bokningar!$F:$F,"Preliminär"))
A40: =IF(Personer!A9="","",Personer!A9) | B40: =IF(Personer!$A$9="","",SUMIFS(Bokningar!$E:$E,Bokningar!$A:$A,Personer!$A$9,Bokningar!$D:$D,B$4,Bokningar!$F:$F,"Preliminär")) | C40: =IF(Personer!$A$9="","",SUMIFS(Bokningar!$E:$E,Bokningar!$A:$A,Personer!$A$9,Bokningar!$D:$D,C$4,Bokningar!$F:$F,"Preliminär")) | D40: =IF(Personer!$A$9="","",SUMIFS(Bokningar!$E:$E,Bokningar!$A:$A,Personer!$A$9,Bokningar!$D:$D,D$4,Bokningar!$F:$F,"Preliminär")) | E40: =IF(Personer!$A$9="","",SUMIFS(Bokningar!$E:$E,Bokningar!$A:$A,Personer!$A$9,Bokningar!$D:$D,E$4,Bokningar!$F:$F,"Preliminär")) | F40: =IF(Personer!$A$9="","",SUMIFS(Bokningar!$E:$E,Bokningar!$A:$A,Personer!$A$9,Bokningar!$D:$D,F$4,Bokningar!$F:$F,"Preliminär")) | G40: =IF(Personer!$A$9="","",SUMIFS(Bokningar!$E:$E,Bokningar!$A:$A,Personer!$A$9,Bokningar!$D:$D,G$4,Bokningar!$F:$F,"Preliminär")) | H40: =IF(Personer!$A$9="","",SUMIFS(Bokningar!$E:$E,Bokningar!$A:$A,Personer!$A$9,Bokningar!$D:$D,H$4,Bokningar!$F:$F,"Preliminär")) | I40: =IF(Personer!$A$9="","",SUMIFS(Bokningar!$E:$E,Bokningar!$A:$A,Personer!$A$9,Bokningar!$D:$D,I$4,Bokningar!$F:$F,"Preliminär"))
A41: =IF(Personer!A10="","",Personer!A10) | B41: =IF(Personer!$A$10="","",SUMIFS(Bokningar!$E:$E,Bokningar!$A:$A,Personer!$A$10,Bokningar!$D:$D,B$4,Bokningar!$F:$F,"Preliminär")) | C41: =IF(Personer!$A$10="","",SUMIFS(Bokningar!$E:$E,Bokningar!$A:$A,Personer!$A$10,Bokningar!$D:$D,C$4,Bokningar!$F:$F,"Preliminär")) | D41: =IF(Personer!$A$10="","",SUMIFS(Bokningar!$E:$E,Bokningar!$A:$A,Personer!$A$10,Bokningar!$D:$D,D$4,Bokningar!$F:$F,"Preliminär")) | E41: =IF(Personer!$A$10="","",SUMIFS(Bokningar!$E:$E,Bokningar!$A:$A,Personer!$A$10,Bokningar!$D:$D,E$4,Bokningar!$F:$F,"Preliminär")) | F41: =IF(Personer!$A$10="","",SUMIFS(Bokningar!$E:$E,Bokningar!$A:$A,Personer!$A$10,Bokningar!$D:$D,F$4,Bokningar!$F:$F,"Preliminär")) | G41: =IF(Personer!$A$10="","",SUMIFS(Bokningar!$E:$E,Bokningar!$A:$A,Personer!$A$10,Bokningar!$D:$D,G$4,Bokningar!$F:$F,"Preliminär")) | H41: =IF(Personer!$A$10="","",SUMIFS(Bokningar!$E:$E,Bokningar!$A:$A,Personer!$A$10,Bokningar!$D:$D,H$4,Bokningar!$F:$F,"Preliminär")) | I41: =IF(Personer!$A$10="","",SUMIFS(Bokningar!$E:$E,Bokningar!$A:$A,Personer!$A$10,Bokningar!$D:$D,I$4,Bokningar!$F:$F,"Preliminär"))
A42: =IF(Personer!A11="","",Personer!A11) | B42: =IF(Personer!$A$11="","",SUMIFS(Bokningar!$E:$E,Bokningar!$A:$A,Personer!$A$11,Bokningar!$D:$D,B$4,Bokningar!$F:$F,"Preliminär")) | C42: =IF(Personer!$A$11="","",SUMIFS(Bokningar!$E:$E,Bokningar!$A:$A,Personer!$A$11,Bokningar!$D:$D,C$4,Bokningar!$F:$F,"Preliminär")) | D42: =IF(Personer!$A$11="","",SUMIFS(Bokningar!$E:$E,Bokningar!$A:$A,Personer!$A$11,Bokningar!$D:$D,D$4,Bokningar!$F:$F,"Preliminär")) | E42: =IF(Personer!$A$11="","",SUMIFS(Bokningar!$E:$E,Bokningar!$A:$A,Personer!$A$11,Bokningar!$D:$D,E$4,Bokningar!$F:$F,"Preliminär")) | F42: =IF(Personer!$A$11="","",SUMIFS(Bokningar!$E:$E,Bokningar!$A:$A,Personer!$A$11,Bokningar!$D:$D,F$4,Bokningar!$F:$F,"Preliminär")) | G42: =IF(Personer!$A$11="","",SUMIFS(Bokningar!$E:$E,Bokningar!$A:$A,Personer!$A$11,Bokningar!$D:$D,G$4,Bokningar!$F:$F,"Preliminär")) | H42: =IF(Personer!$A$11="","",SUMIFS(Bokningar!$E:$E,Bokningar!$A:$A,Personer!$A$11,Bokningar!$D:$D,H$4,Bokningar!$F:$F,"Preliminär")) | I42: =IF(Personer!$A$11="","",SUMIFS(Bokningar!$E:$E,Bokningar!$A:$A,Personer!$A$11,Bokningar!$D:$D,I$4,Bokningar!$F:$F,"Preliminär"))
A43: =IF(Personer!A12="","",Personer!A12) | B43: =IF(Personer!$A$12="","",SUMIFS(Bokningar!$E:$E,Bokningar!$A:$A,Personer!$A$12,Bokningar!$D:$D,B$4,Bokningar!$F:$F,"Preliminär")) | C43: =IF(Personer!$A$12="","",SUMIFS(Bokningar!$E:$E,Bokningar!$A:$A,Personer!$A$12,Bokningar!$D:$D,C$4,Bokningar!$F:$F,"Preliminär")) | D43: =IF(Personer!$A$12="","",SUMIFS(Bokningar!$E:$E,Bokningar!$A:$A,Personer!$A$12,Bokningar!$D:$D,D$4,Bokningar!$F:$F,"Preliminär")) | E43: =IF(Personer!$A$12="","",SUMIFS(Bokningar!$E:$E,Bokningar!$A:$A,Personer!$A$12,Bokningar!$D:$D,E$4,Bokningar!$F:$F,"Preliminär")) | F43: =IF(Personer!$A$12="","",SUMIFS(Bokningar!$E:$E,Bokningar!$A:$A,Personer!$A$12,Bokningar!$D:$D,F$4,Bokningar!$F:$F,"Preliminär")) | G43: =IF(Personer!$A$12="","",SUMIFS(Bokningar!$E:$E,Bokningar!$A:$A,Personer!$A$12,Bokningar!$D:$D,G$4,Bokningar!$F:$F,"Preliminär")) | H43: =IF(Personer!$A$12="","",SUMIFS(Bokningar!$E:$E,Bokningar!$A:$A,Personer!$A$12,Bokningar!$D:$D,H$4,Bokningar!$F:$F,"Preliminär")) | I43: =IF(Personer!$A$12="","",SUMIFS(Bokningar!$E:$E,Bokningar!$A:$A,Personer!$A$12,Bokningar!$D:$D,I$4,Bokningar!$F:$F,"Preliminär"))
...

Sheet Personer
A1: Namn | B1: Roll | C1: Timmar per vecka | D1: Målbeläggning
A2: Karin | B2: Senior | C2: 40 | D2: 0.85
A3: Ahmed | B3: Konsult | C3: 40 | D3: 0.85
A4: Sofia | B4: Konsult | C4: 32 | D4: 0.85

Sheet Frånvaro
A1: Namn | B1: Vecka | C1: Timmar | D1: Orsak
A2: Karin | B2: 44 | C2: 8 | D2: Allhelgona (fredag)
A3: Ahmed | B3: 44 | C3: 8 | D3: Allhelgona (fredag)
A4: Sofia | B4: 44 | C4: 8 | D4: Allhelgona (fredag)
A5: Sofia | B5: 47 | C5: 32 | D5: Semester
A6: Ahmed | B6: 46 | C6: 4 | D6: Läkare

Sheet Bokningar
A1: Namn | B1: Kund | C1: Jobb eller affär | D1: Vecka | E1: Timmar | F1: Status
A2: Karin | B2: Region Västmanland | C2: Digitaliseringsstöd | D2: 41 | E2: 32 | F2: Fast
A3: Karin | B3: Region Västmanland | C3: Digitaliseringsstöd | D3: 42 | E3: 32 | F3: Fast
A4: Karin | B4: Region Västmanland | C4: Digitaliseringsstöd | D4: 43 | E4: 32 | F4: Fast
A5: Karin | B5: Region Västmanland | C5: Digitaliseringsstöd | D5: 44 | E5: 32 | F5: Fast
A6: Karin | B6: Region Västmanland | C6: Digitaliseringsstöd | D6: 45 | E6: 32 | F6: Fast
A7: Karin | B7: Region Västmanland | C7: Digitaliseringsstöd | D7: 46 | E7: 32 | F7: Fast
A8: Karin | B8: Region Västmanland | C8: Digitaliseringsstöd | D8: 47 | E8: 32 | F8: Fast
A9: Karin | B9: Region Västmanland | C9: Digitaliseringsstöd | D9: 48 | E9: 32 | F9: Fast
A10: Ahmed | B10: Mälardalens Logistik | C10: Kundportal fas 2 | D10: 41 | E10: 36 | F10: Fast
A11: Ahmed | B11: Mälardalens Logistik | C11: Kundportal fas 2 | D11: 42 | E11: 36 | F11: Fast
A12: Ahmed | B12: Mälardalens Logistik | C12: Kundportal fas 2 | D12: 43 | E12: 36 | F12: Fast
A13: Ahmed | B13: Mälardalens Logistik | C13: Kundportal fas 2 | D13: 44 | E13: 36 | F13: Fast
... A23: Sofia | B23: Mälardalens Logistik | C23: Kundportal fas 2 | D23: 46 | E23: 16 | F23: Fast
